BEGIN:VCALENDAR
VERSION:2.0
PRODID:-//wp-events-plugin.com//7.2.3.1//EN
TZID:Europe/Zurich
X-WR-TIMEZONE:Europe/Zurich
BEGIN:VEVENT
UID:269@qkk6.ch
DTSTART;TZID=Europe/Zurich:20260413T193000
DTEND;TZID=Europe/Zurich:20260413T193000
DTSTAMP:20260301T202649Z
URL:https://www.qkk6.ch/events/2026/04/13/heisse-musik-aus-dem-kreis-6-the
 -kings-clan/
SUMMARY:Heisse Musik aus dem Kreis 6: The King's Clan
DESCRIPTION:\n\nA Tribute to the One &amp\; Only&nbsp\;!\n\nAus der Fusion 
 von Gospel\, Country und Blues entstand in den 50er Jahren der Rock’n’
 Roll. In Original-Besetzung mit Gitarre\, Piano\, Bass und Schlagzeug spie
 lt The King’s Clan ausschliesslich den Sound der alten Aufnahmen.\n\nWen
 n sich unter dem Motto «A Tribute tot he One &amp\; Only» 5 enthusiastis
 che Musiker finden und diese elektrisierende Zeit wieder auf die Bühne br
 ingen\, kann nur grossartige Stimmung entstehen! Garantiert!\n\nMarc A. K.
 \, Vocals\, Tambourine &amp\; Hand Clapping\nMichael W.\, Guitars &amp\; V
 ocals\nPeter C.\, Piano &amp\; Vocals&nbsp\;\nCharlie H.\, Gibson-Bass &am
 p\; Vocals\nHenry H.\, Giannini Jazz-Drums &amp\; VocalBaröffnung\, 18.30
  Uhr\n\n\nKollekte\n&nbsp\;\nPlatzzahl beschränkt
ATTACH;FMTTYPE=image/jpeg:https://www.qkk6.ch/wp-content/uploads/the-kings
 -clan-e1772366579298.jpg
LOCATION:Röslischüür\, Röslistrasse 9\, Zürich\, 8006\, Schweiz
GEO:47.388508;8.541154
X-APPLE-STRUCTURED-LOCATION;VALUE=URI;X-ADDRESS=Röslistrasse 9\, Zürich\,
  8006\, Schweiz;X-APPLE-RADIUS=100;X-TITLE=Röslischüür:geo:47.388508,8.
 541154
END:VEVENT
BEGIN:VTIMEZONE
TZID:Europe/Zurich
X-LIC-LOCATION:Europe/Zurich
BEGIN:DAYLIGHT
DTSTART:20260329T030000
TZOFFSETFROM:+0100
TZOFFSETTO:+0200
TZNAME:CEST
END:DAYLIGHT
END:VTIMEZONE
END:VCALENDAR