BEGIN:VCALENDAR
VERSION:2.0
PRODID:-//wp-events-plugin.com//7.2.3.1//EN
TZID:Europe/Zurich
X-WR-TIMEZONE:Europe/Zurich
BEGIN:VEVENT
UID:268@qkk6.ch
DTSTART;TZID=Europe/Zurich:20260412T160000
DTEND;TZID=Europe/Zurich:20260412T160000
DTSTAMP:20260328T071543Z
URL:https://www.qkk6.ch/events/2026/04/12/vogelkonzert-les-rappel-des-oise
 aux-mit-haika-luebke-und-ina-callejas/
SUMMARY:Vogelkonzert – les Rappel des Oiseaux\, mit Haika Lübcke und Ina
  Callejas
DESCRIPTION:Das Duo Flût’accord\nnimmt uns mit in die Welt der Vogelstim
 men und -gesänge\nLe Rappel des Oiseaux! Ein musikalischer Flug durch vie
 r Jahrhunderte von François Couperin bis Daniel Schnyder: Die Nachtigall\
 , der Stieglitz\, der Kuckuck\, verschiedene Waldvögel\, ja sogar der Spa
 tz aus Paris kommt angeflogen! Dazu hört man die Erinnerung an Vögel\, l
 ernt Vogelsprache und lauscht der Lerche in einem Märchen.\nMit feinem Ge
 spür für Farben und Klangbilder haben Haika Lübcke und Ina Callejas die
 ses ebenso poetische wie virtuose Programm zusammengestellt für die selte
 ne Besetzung von Akkordeon und Flöten in all ihren Grössen – vom Picco
 lo bis zur Bassflöte.\nEin Sonntagsvergnügen für die ganze Familie\nHai
 ka Lübcke: Flöte\, Piccolo und Bassflöte&nbsp\;\nIna Callejas: Akkordeo
 n\nBaröffnung\, 15.00 Uhr\n&nbsp\;\nKollekte\n&nbsp\;\nPlatzzahl beschrä
 nkt
ATTACH;FMTTYPE=image/jpeg:https://www.qkk6.ch/wp-content/uploads/Vogelkonz
 ert-2.png
LOCATION:Röslischüür\, Röslistrasse 9\, Zürich\, 8006\, Schweiz
GEO:47.388508;8.541154
X-APPLE-STRUCTURED-LOCATION;VALUE=URI;X-ADDRESS=Röslistrasse 9\, Zürich\,
  8006\, Schweiz;X-APPLE-RADIUS=100;X-TITLE=Röslischüür:geo:47.388508,8.
 541154
END:VEVENT
BEGIN:VTIMEZONE
TZID:Europe/Zurich
X-LIC-LOCATION:Europe/Zurich
BEGIN:DAYLIGHT
DTSTART:20260329T030000
TZOFFSETFROM:+0100
TZOFFSETTO:+0200
TZNAME:CEST
END:DAYLIGHT
END:VTIMEZONE
END:VCALENDAR