BEGIN:VCALENDAR
VERSION:2.0
PRODID:-//wp-events-plugin.com//7.2.3.1//EN
TZID:Europe/Zurich
X-WR-TIMEZONE:Europe/Zurich
BEGIN:VEVENT
UID:266@qkk6.ch
DTSTART;TZID=Europe/Zurich:20260330T200000
DTEND;TZID=Europe/Zurich:20260330T200000
DTSTAMP:20260101T104221Z
URL:https://www.qkk6.ch/events/2026/03/30/stummfilm-usa-1919-daddy-long-le
 gs-regie-marshall-neilan/
SUMMARY:Stummfilm: USA 1919 Daddy-Long-Legs - Regie: Marshall Neilan
DESCRIPTION:Daddy-Long-Legs\n«Daddy Long Legs» aus dem Jahre 1919 – ein
 e Zeit von grosser Unsicherheit und Krisen – erzählt die Geschichte des
  Waisenkindes Jerusha «Judy» Abbott\, welches dank eines geheimnisvollen
  Wohltäters den Weg in die Gesellschaft findet.\nDer Film basiert auf dem
  gleichnamigen Briefroman von Jean Webster aus dem Jahr 1912. Mary Pickfor
 d feiert darin als Judy in der Hauptrolle überzeugend – mit nur 26 Jahr
 en – einen ihrer grössten Erfolge.\nDieser Stummfilm ist ein sogenannte
 s Comedy-Drama\, in dem soziale Themen witzig und zugleich ernsthaft mit G
 esten\, Geschichten und Gesichtszügen dargestellt werden.\nKarin Weissber
 g wird uns als Komponisten\, Pianistin und Kennerin der\nStummfilmzeit zu 
 Beginn in dieses Filmwerk einführen.\nDauer des Films mit Einführung: 1 
 h 50 min\n&nbsp\;\n\nTickets erhalten Sie hier
ATTACH;FMTTYPE=image/jpeg:https://www.qkk6.ch/wp-content/uploads/Daddy-Lon
 g-Legs-2-e1767257488461.jpg
CATEGORIES:Film
LOCATION:Theater Rigiblick\, Germaniastrasse 99\, Zürich\, 8044\, Schweiz
GEO:47.388274;8.553456
X-APPLE-STRUCTURED-LOCATION;VALUE=URI;X-ADDRESS=Germaniastrasse 99\, Züric
 h\, 8044\, Schweiz;X-APPLE-RADIUS=100;X-TITLE=Theater Rigiblick:geo:47.388
 274,8.553456
END:VEVENT
BEGIN:VTIMEZONE
TZID:Europe/Zurich
X-LIC-LOCATION:Europe/Zurich
BEGIN:DAYLIGHT
DTSTART:20260329T030000
TZOFFSETFROM:+0100
TZOFFSETTO:+0200
TZNAME:CEST
END:DAYLIGHT
END:VTIMEZONE
END:VCALENDAR