BEGIN:VCALENDAR
VERSION:2.0
PRODID:-//wp-events-plugin.com//7.2.3.1//EN
TZID:Europe/Zurich
X-WR-TIMEZONE:Europe/Zurich
BEGIN:VEVENT
UID:265@qkk6.ch
DTSTART;TZID=Europe/Zurich:20260305T193000
DTEND;TZID=Europe/Zurich:20260305T193000
DTSTAMP:20260121T215449Z
URL:https://www.qkk6.ch/events/2026/03/05/cuarteto-tango-bodegon/
SUMMARY:Cuarteto Tango Bodegón
DESCRIPTION:Argentinischer Tango im Kreis 6\n\nDer argentinische Tango in s
 einer traditionellen Form ist eine unglaublich reichhaltige Welt mit seine
 n drei Hauptelementen: Musik\, Poesie\, und Tanz. Geboren mit dem 20. Jahr
 hundert in den Häfen von Buenos Aires und Montevideo\, hat er sich in Win
 deseile über den Globus verteilt und begeistert und fasziniert bis heute 
 als eine einzigartige Musik\, die sich keinem herkömmlichen Genre zuschre
 iben lässt.\n\nWährend man hierzulande oft den Tanz in den Vordergrund s
 tellt\, widmet sich das Cuarteto Tango Bodegón der Musik in ihrem konzert
 anten Kontext. Dank ihrem Gast\, dem Sänger Agustín del Pozo\, kommt auc
 h die Poesie zum Tragen\, wenn er Klassiker des Genres singt.\nEin Tanzver
 bot soll das allerdings nicht bedeuten: Wen es juckt in den Waden und wer 
 sich auf wenigen Quadratmetern zurechtfindet\, der sei natürlich auch zum
  Tanzen eingeladen.\n\nDas Cuarteto Tango Bodegón präsentiert ein Progra
 mm mit klassischen Arrangements im Stil der 40er Jahre.\n\nLaura Morales 
 • Violine\nJens Biedermann • Bandoneon\nMatías Lanz • Piano\nFederi
 co Abraham • Bass\nAgustín del Pozo • Gesang\nBaröffnung\, 18.30 Uhr
 \n&nbsp\;\nKollekte\n&nbsp\;\nPlatzzahl beschränkt
ATTACH;FMTTYPE=image/jpeg:https://www.qkk6.ch/wp-content/uploads/Tango-Bei
 tragsbild.1-e1767198843920.jpeg
CATEGORIES:Konzert
LOCATION:Röslischüür\, Röslistrasse 9\, Zürich\, 8006\, Schweiz
GEO:47.388508;8.541154
X-APPLE-STRUCTURED-LOCATION;VALUE=URI;X-ADDRESS=Röslistrasse 9\, Zürich\,
  8006\, Schweiz;X-APPLE-RADIUS=100;X-TITLE=Röslischüür:geo:47.388508,8.
 541154
END:VEVENT
BEGIN:VTIMEZONE
TZID:Europe/Zurich
X-LIC-LOCATION:Europe/Zurich
BEGIN:STANDARD
DTSTART:20251026T020000
TZOFFSETFROM:+0200
TZOFFSETTO:+0100
TZNAME:CET
END:STANDARD
END:VTIMEZONE
END:VCALENDAR