BEGIN:VCALENDAR
VERSION:2.0
PRODID:-//wp-events-plugin.com//7.2.3.1//EN
TZID:Europe/Zurich
X-WR-TIMEZONE:Europe/Zurich
BEGIN:VEVENT
UID:263@qkk6.ch
DTSTART;TZID=Europe/Zurich:20260122T193000
DTEND;TZID=Europe/Zurich:20260122T193000
DTSTAMP:20260120T111925Z
URL:https://www.qkk6.ch/events/2026/01/22/heisse-musik-aus-dem-kreis-6-the
 -cordon-blues-band/
SUMMARY:Abgesagt: Heisse Musik aus dem Kreis 6: The Cordon Blues Band
DESCRIPTION:Die Veranstaltung muss wegen Krankheit von drei der fünf Musik
 er leider kurzfristig abgesagt werden!\nSwitzerland‘s hottest &amp\; mos
 t wanted Blues Band!\nIn der klassischen Blues-Besetzung mit Sänger\, 2 G
 itarristen inklusuve Blues Harp\, Fender-Bass und Giannini Jazz-Drums.\nDe
 n Blues haben wir nicht neu erfunden\, aber das Repertoire ist sehr spezie
 ll\, äusserst vielseitig und unsere Bühnenpräsenz nicht alltäglich!\nG
 arantiert!\nDie 5 Bandmitglieder sind erfahrene Hasen im Musikbusiness und
  schon jahrzehntelang «On Stage» – und eben: «Rhythm Gourmets»\nMarc
  A. K. - Vocals\, Tambourine &amp\; hand clapping\nErich S. - Guitars &amp
 \; Vocals\nMartin L - Guitars &amp\; Blues Harp &amp\; Vocals\nCharlie H. 
 - Gibson-Bass\nHenry H. - Giannini Jazz-Drums\n\nBaröffnung\, 18.30 Uhr\n
 &nbsp\;\n\nKollekte\n&nbsp\;\nPlatzzahl beschränkt\n&nbsp\;\n&nbsp\;\n\n&
 nbsp\;
ATTACH;FMTTYPE=image/jpeg:https://www.qkk6.ch/wp-content/uploads/1.CBB-Anz
 ug-e1764242260881.jpeg
CATEGORIES:Konzert
LOCATION:Röslischüür\, Röslistrasse 9\, Zürich\, 8006\, Schweiz
GEO:47.388508;8.541154
X-APPLE-STRUCTURED-LOCATION;VALUE=URI;X-ADDRESS=Röslistrasse 9\, Zürich\,
  8006\, Schweiz;X-APPLE-RADIUS=100;X-TITLE=Röslischüür:geo:47.388508,8.
 541154
END:VEVENT
BEGIN:VTIMEZONE
TZID:Europe/Zurich
X-LIC-LOCATION:Europe/Zurich
BEGIN:STANDARD
DTSTART:20251026T020000
TZOFFSETFROM:+0200
TZOFFSETTO:+0100
TZNAME:CET
END:STANDARD
END:VTIMEZONE
END:VCALENDAR