BEGIN:VCALENDAR
VERSION:2.0
PRODID:-//wp-events-plugin.com//7.2.3.1//EN
TZID:Europe/Zurich
X-WR-TIMEZONE:Europe/Zurich
BEGIN:VEVENT
UID:262@qkk6.ch
DTSTART;TZID=Europe/Zurich:20260108T193000
DTEND;TZID=Europe/Zurich:20260108T193000
DTSTAMP:20251127T113326Z
URL:https://www.qkk6.ch/events/2026/01/08/der-reislaeufer-und-das-blutgeri
 cht-von-zuerich-peter-neumann-im-gespraech-mit-alex-oberholzer/
SUMMARY:Der Reisläufer und das Blutgericht von Zürich - Peter Neumann im 
 Gespräch mit Alex Oberholzer
DESCRIPTION:Peter Neumann und sein Buch über einen Zürcher Krieger aus de
 m 16. Jahrhundert\; im Gespräch mit Alex Oberholzer\nPeter Neumann\, der 
 seit seiner Kindheit im Kreis 6 lebt\, hat einen packenden Roman über das
  Söldnerwesen in der alten Eidgenossenschaft geschrieben und blendet zur
 ück ins 16. Jahrhundert:\nEnde 1515. Zürich ist in Aufruhr. Wütende Unt
 ertanen vom Land stürmen die Stadt und bedrohen die Obrigkeit. Sie forder
 n einen Prozess gegen die Schuldigen für die Niederlage bei Marignano\, d
 ie Tausende Eidgenossen das Leben gekostet hat. Mitten im Tumult ist der j
 unge Reisläufer Samuel aus Küsnacht. Statt reicher Beute aus Italien ble
 iben ihm nur die Erinnerungen an die Schrecken des Krieges und die Bestech
 lichkeit manch hoher Herren aus Zürich. Er steht als Zeuge vor Gericht un
 d gerät in eine Intrige der Mächtigen. Bald kämpft er erneut um sein Le
 ben....\n\nIm Gespräch mit Alex Oberholzer schildert der Autor das Entste
 hen seines Buches\, berichtet von seinen historischen Recherchen und stell
 t uns den Künstler und Reisläufer Urs Graf vor\, den es wirklich gab und
  der im Roman als Erzähler auftritt. Von Graf stammen auch die Zeichnunge
 n im Buch\, welche das Geschehen bildhaft begleiten.\nBaröffnung\, 18.30 
 Uhr\n&nbsp\;\nKollekte\n&nbsp\;\nPlatzzahl beschränkt\n&nbsp\;\n
ATTACH;FMTTYPE=image/jpeg:https://www.qkk6.ch/wp-content/uploads/Alles-e17
 64240842373.jpg
LOCATION:Röslischüür\, Röslistrasse 9\, Zürich\, 8006\, Schweiz
GEO:47.388508;8.541154
X-APPLE-STRUCTURED-LOCATION;VALUE=URI;X-ADDRESS=Röslistrasse 9\, Zürich\,
  8006\, Schweiz;X-APPLE-RADIUS=100;X-TITLE=Röslischüür:geo:47.388508,8.
 541154
END:VEVENT
BEGIN:VTIMEZONE
TZID:Europe/Zurich
X-LIC-LOCATION:Europe/Zurich
BEGIN:STANDARD
DTSTART:20251026T020000
TZOFFSETFROM:+0200
TZOFFSETTO:+0100
TZNAME:CET
END:STANDARD
END:VTIMEZONE
END:VCALENDAR