BEGIN:VCALENDAR
VERSION:2.0
PRODID:-//wp-events-plugin.com//7.2.3.1//EN
TZID:Europe/Zurich
X-WR-TIMEZONE:Europe/Zurich
BEGIN:VEVENT
UID:259@qkk6.ch
DTSTART;TZID=Europe/Zurich:20251211T160000
DTEND;TZID=Europe/Zurich:20251211T160000
DTSTAMP:20251205T101306Z
URL:https://www.qkk6.ch/events/2025/12/11/finissage-und-bilderverkauf-mit-
 konzert-irma-mondin-groovefinger-jerome-stern-und-beri-kovac/
SUMMARY:Finissage und Bilderverkauf mit Konzert. Irma Mondin  &  Sternherz:
  Jérôme Stern und Katja Herz
DESCRIPTION:Irma Mondin &nbsp\;&amp\;&nbsp\; Sternherz - das sind Jérôme 
 Stern und Katja Herz.\n\nIn ihren Songs zwischen Blues\, Chanson und Swing
  erzählen Sternherz zeitlos-romantische Geschichten\, die direkt ins Herz
  gehen.\n\nEinführung zu Leben und Werk von Irma Mondin durch Karin Gimmi
 \, Kuratorin\n\nDetailprogramm
ATTACH;FMTTYPE=image/jpeg:https://www.qkk6.ch/wp-content/uploads/Mondin_St
 ernherz-Werbung-auf-Homepage.1-e1764194171486.jpeg
LOCATION:Röslischüür\, Röslistrasse 9\, Zürich\, 8006\, Schweiz
GEO:47.388508;8.541154
X-APPLE-STRUCTURED-LOCATION;VALUE=URI;X-ADDRESS=Röslistrasse 9\, Zürich\,
  8006\, Schweiz;X-APPLE-RADIUS=100;X-TITLE=Röslischüür:geo:47.388508,8.
 541154
END:VEVENT
BEGIN:VTIMEZONE
TZID:Europe/Zurich
X-LIC-LOCATION:Europe/Zurich
BEGIN:STANDARD
DTSTART:20251026T020000
TZOFFSETFROM:+0200
TZOFFSETTO:+0100
TZNAME:CET
END:STANDARD
END:VTIMEZONE
END:VCALENDAR