BEGIN:VCALENDAR
VERSION:2.0
PRODID:-//wp-events-plugin.com//7.2.3.1//EN
TZID:Europe/Zurich
X-WR-TIMEZONE:Europe/Zurich
BEGIN:VEVENT
UID:256@qkk6.ch
DTSTART;TZID=Europe/Zurich:20251210T160000
DTEND;TZID=Europe/Zurich:20251210T160000
DTSTAMP:20251202T091731Z
URL:https://www.qkk6.ch/events/2025/12/10/vernissage-und-bilderverkauf-irm
 a-mondin/
SUMMARY:Vernissage und Bilderverkauf Irma Mondin
DESCRIPTION:\n\nVernissage und Bilderverkauf mit Schreibwerkstatt Irma Mond
 in:&nbsp\;\n\nEine Kreis-6-Künstlerin eine Hartnäckige eine ungewöhnlic
 he Frau ihrer Zeit\n\n\nEinführung zu Leben und Werk durch Karin Gimmi\, 
 Kuratorin\nSchreibwerkstatt zu den Bildern für alle\n&nbsp\;\nWenn Sie de
 n Namen der Künstlerin Irma Mondin (1931–2014) noch nicht kennen\, dann
  sind Sie genau richtig an diesem Anlass! Eine Ausstellung ausgewählter B
 ilder aus ihrem Nachlass zeigt das konsequent abstrakte Schaffen Mondins. 
 Dazu beleuchtet die Kunsthistorikerin und Kuratorin Karin Gimmi das Leben 
 der ungewöhnlichen Frau\, die auch im Kreis 6 aktiv Kunst vermittelte. Ir
 ma Meyer\, wie sie bis 1954 hiess\, bildete sich als Grafikerin an der Kun
 stgewerbeschule in Zürich aus\, trug das Haar kurz und verkehrte damals i
 m Café Odeon. Aber erst nach Jahren der Berufstätigkeit als Zeichnerin 
 – in der Mode- und Schuhbranche – und als Grafikerin in vielbeschäfti
 gten Ateliers\, entschied sich Mondin ganz für die Malerei. Für eine ung
 egenständlich expressive Malerei\, in der auch der Pinsel oder Textilfrag
 mente mitreden.\nDetailprogramm
ATTACH;FMTTYPE=image/jpeg:https://www.qkk6.ch/wp-content/uploads/image-2.p
 ng
LOCATION:Röslischüür\, Röslistrasse 9\, Zürich\, 8006\, Schweiz
GEO:47.388508;8.541154
X-APPLE-STRUCTURED-LOCATION;VALUE=URI;X-ADDRESS=Röslistrasse 9\, Zürich\,
  8006\, Schweiz;X-APPLE-RADIUS=100;X-TITLE=Röslischüür:geo:47.388508,8.
 541154
END:VEVENT
BEGIN:VTIMEZONE
TZID:Europe/Zurich
X-LIC-LOCATION:Europe/Zurich
BEGIN:STANDARD
DTSTART:20251026T020000
TZOFFSETFROM:+0200
TZOFFSETTO:+0100
TZNAME:CET
END:STANDARD
END:VTIMEZONE
END:VCALENDAR