BEGIN:VCALENDAR
VERSION:2.0
PRODID:-//wp-events-plugin.com//7.2.3.1//EN
TZID:Europe/Zurich
X-WR-TIMEZONE:Europe/Zurich
BEGIN:VEVENT
UID:255@qkk6.ch
DTSTART;TZID=Europe/Zurich:20251204T193000
DTEND;TZID=Europe/Zurich:20251204T193000
DTSTAMP:20251127T095207Z
URL:https://www.qkk6.ch/events/2025/12/04/annemarie-schwarzenbach-statione
 n-einer-sehnsucht-vera-bauer-autorin-sprecherin-jelena-goldzycher-komposit
 ion-musik-peter-schweiger-dramaturgische-mitarbeit/
SUMMARY:ANNEMARIE SCHWARZENBACH - Stationen einer Sehnsucht.  Vera Bauer Au
 torin & Sprecherin\, Jelena Goldzycher Komposition & Musik\, Peter Schweig
 er dramaturgische Mitarbeit
DESCRIPTION:Das kurze Leben der Schweizer Autorin Annemarie Schwarzenbach (
 1908 –1942) ist geprägt durch abenteuerliche Reisen in alle Welt\, leid
 enschaftlichen Erkenntnisdrang und ihre rückhaltlose Liebe zu anderen Fra
 uen. Intensiv\, sensibel und klug reagiert sie auf ihre Zeitumstände\, sc
 hreibt gegen den Faschismus in Europa an und kämpft gegen ihre Traurigkei
 ten und Süchte.\nFür dieses dokumentarische Erzähltheater hat Vera Baue
 r unzählige Briefe aus dem Nachlass recherchiert. Zusammen mit der Musike
 rin Jelena Goldzycher erschafft sie einen aussergewöhnlichen Einblick in 
 Leben und Werk dieser Autorin\, die mit ihrem Lebensentwurf weit über ihr
 e Zeit hinausweist – und herausfordert\, fasziniert und bewegt.\nVera Ba
 uer\, bekannt für ihre feinen Literaturbearbeitungen und ihrer wunderbare
 n Erzählstimme\, zieht uns in den Bann einer vermeintlich vergangenen Zei
 t und führt uns damit zu zeitrelevanten Themen: ausserordentlich bereiche
 rnd und ein wunderbarer Genuss.\n\nBaröffnung\, 18.30 Uhr\n&nbsp\;\nKolle
 kte\n&nbsp\;\nPlatzzahl beschränkt\n&nbsp\;
ATTACH;FMTTYPE=image/jpeg:https://www.qkk6.ch/wp-content/uploads/Schwarzen
 b.1-2-e1758369469593.jpeg
LOCATION:Röslischüür\, Röslistrasse 9\, Zürich\, 8006\, Schweiz
GEO:47.388508;8.541154
X-APPLE-STRUCTURED-LOCATION;VALUE=URI;X-ADDRESS=Röslistrasse 9\, Zürich\,
  8006\, Schweiz;X-APPLE-RADIUS=100;X-TITLE=Röslischüür:geo:47.388508,8.
 541154
END:VEVENT
BEGIN:VTIMEZONE
TZID:Europe/Zurich
X-LIC-LOCATION:Europe/Zurich
BEGIN:STANDARD
DTSTART:20251026T020000
TZOFFSETFROM:+0200
TZOFFSETTO:+0100
TZNAME:CET
END:STANDARD
END:VTIMEZONE
END:VCALENDAR