BEGIN:VCALENDAR
VERSION:2.0
PRODID:-//wp-events-plugin.com//7.2.3.1//EN
TZID:Europe/Zurich
X-WR-TIMEZONE:Europe/Zurich
BEGIN:VEVENT
UID:254@qkk6.ch
DTSTART;TZID=Europe/Zurich:20251114T193000
DTEND;TZID=Europe/Zurich:20251114T193000
DTSTAMP:20250922T131043Z
URL:https://www.qkk6.ch/events/2025/11/14/schaurige-geschichten-im-novembe
 r-judith-flury-klavier-andreas-mueller-violoncello-andreas-mueller-crepon-
 sprecher/
SUMMARY:Schaurige Geschichten im November. Judith Flury • Klavier\,   And
 reas Müller •Violoncello\,   Andreas Müller-Crepon • Sprecher
DESCRIPTION:Aus alten Märchen winkt es.\nDer tiefromantische Kammermusikab
 end mit «Märchen» für Cello und Klavier\, Sonaten und schaurigen Gesch
 ichten erklingt in einer aussergewöhnlichen Besetzung. Der Cellist Andrea
 s Müller und die Pianistin Judith Flury werden vom Sprecher Andreas Müll
 er-Crepon begleitet – für Zürich und den QKK6 ein wohlbekannter Sprech
 er\, Musiker und Arrangeur. Dvořák\, Juon\, Martinů und Janáček rufen
  mit ihrer Musik eine märchenhafte Atmosphäre hervor\, und die berühmte
  Brahms-Sonate in e-Moll erklingt in diesem Programm in ganz anderem Licht
 : Eine Märchenstunde der besonderen Art\, bei der das eingespielte Trio d
 as Spannungsfeld zwischen Musik und Text auskostet!\n&nbsp\;\nBaröffnung\
 , 18.30 Uhr\n\n\n&nbsp\;\n\nKollekte\n\nPlatzzahl beschränkt\n\n\n&nbsp\;
ATTACH;FMTTYPE=image/jpeg:https://www.qkk6.ch/wp-content/uploads/bild_alte
 _ma╠erchen-e1758363204648.jpg
LOCATION:Röslischüür\, Röslistrasse 9\, Zürich\, 8006\, Schweiz
GEO:47.388508;8.541154
X-APPLE-STRUCTURED-LOCATION;VALUE=URI;X-ADDRESS=Röslistrasse 9\, Zürich\,
  8006\, Schweiz;X-APPLE-RADIUS=100;X-TITLE=Röslischüür:geo:47.388508,8.
 541154
END:VEVENT
BEGIN:VTIMEZONE
TZID:Europe/Zurich
X-LIC-LOCATION:Europe/Zurich
BEGIN:STANDARD
DTSTART:20251026T020000
TZOFFSETFROM:+0200
TZOFFSETTO:+0100
TZNAME:CET
END:STANDARD
END:VTIMEZONE
END:VCALENDAR