BEGIN:VCALENDAR
VERSION:2.0
PRODID:-//wp-events-plugin.com//7.2.3.1//EN
TZID:Europe/Zurich
X-WR-TIMEZONE:Europe/Zurich
BEGIN:VEVENT
UID:253@qkk6.ch
DTSTART;TZID=Europe/Zurich:20251109T134500
DTEND;TZID=Europe/Zurich:20251109T134500
DTSTAMP:20251108T082636Z
URL:https://www.qkk6.ch/events/2025/11/09/was-mache-amene-sunntignamitag-i
 m-novaember-jasse-zum-biischpiil/
SUMMARY:Jassturnier am Sonntagnachmittag im November
DESCRIPTION:Unsere Jassregeln finden Sie hier!\n\nDie Röslibar ist bereits
  ab 13.00 Uhr geöffnet.\nJassblattausgabe bis 13.45\n\n\nTurnierbeginn: 1
 4 Uhr\n\n\nBeschränkte Platzzahl\n\n\nEintritt: 20 Franken. Das Startgeld
  können Sie an der Kasse in bar oder mit twint bezahlen.\nPreisverleihung
  und Suppe zirka 18 Uhr\n\n&nbsp\;\nAchtung: Für jeden Teilnehmer muss ei
 ne eigene Anmeldung gemacht werden\, da wir für die Rangauswertung und an
 schliessender Preisverteilung alle Namen brauchen.\n\n&nbsp\;\n
ATTACH;FMTTYPE=image/jpeg:https://www.qkk6.ch/wp-content/uploads/image.png
LOCATION:Röslischüür\, Röslistrasse 9\, Zürich\, 8006\, Schweiz
GEO:47.388508;8.541154
X-APPLE-STRUCTURED-LOCATION;VALUE=URI;X-ADDRESS=Röslistrasse 9\, Zürich\,
  8006\, Schweiz;X-APPLE-RADIUS=100;X-TITLE=Röslischüür:geo:47.388508,8.
 541154
END:VEVENT
BEGIN:VTIMEZONE
TZID:Europe/Zurich
X-LIC-LOCATION:Europe/Zurich
BEGIN:STANDARD
DTSTART:20251026T020000
TZOFFSETFROM:+0200
TZOFFSETTO:+0100
TZNAME:CET
END:STANDARD
END:VTIMEZONE
END:VCALENDAR