BEGIN:VCALENDAR
VERSION:2.0
PRODID:-//wp-events-plugin.com//7.2.3.1//EN
TZID:Europe/Zurich
X-WR-TIMEZONE:Europe/Zurich
BEGIN:VEVENT
UID:249@qkk6.ch
DTSTART;TZID=Europe/Zurich:20251009T193000
DTEND;TZID=Europe/Zurich:20251009T193000
DTSTAMP:20251009T161353Z
URL:https://www.qkk6.ch/events/2025/10/09/rumpel-racine-ungehobelt-jojo-ku
 nz-kontrabass-gesang-marianne-racine-gesang/
SUMMARY:Rumpel & Racine: «ungehobelt». Jojo Kunz Kontrabass\, Gesang • 
 Marianne Racine Gesang
DESCRIPTION:Rumpel &amp\; Racine: «ungehobelt» – zwei Frauen mit Power\
 nDa haben zwei Temperamente\, die Zurückhaltung nicht kennen\, zusammenge
 funden. Wenn «Rumpel &amp\; Racine» loslegen\, lassen Heiterkeit und Rü
 hrung kein Auge trocken. Mit Lebenslust\, Spielwitz und solidem Handwerk w
 ird Vivaldi auf die Schippe genommen\, Dowland &amp\; Britten gebluest\, b
 rasilianische Samba befeuert und tiefer Tango geschoben.\nDieses Damen-Duo
  aus Kontrabass &amp\; Stimme knackt locker hartnäckige Skeptiker und lä
 sst ihr Publikum verblüfft und bes(ch)wingt von dannen schweben...\nJojo 
 Kunz • Kontrabass\, Gesang\nMarianne Racine • Gesang\nBaröffnung\, 18
 :30 Uhr\nKollekte\nPlatzzahl beschränkt
ATTACH;FMTTYPE=image/jpeg:https://www.qkk6.ch/wp-content/uploads/flyer_Rum
 pelRacine-e1754425711235.jpg
CATEGORIES:Konzert
LOCATION:Röslischüür\, Röslistrasse 9\, Zürich\, 8006\, Schweiz
GEO:47.388508;8.541154
X-APPLE-STRUCTURED-LOCATION;VALUE=URI;X-ADDRESS=Röslistrasse 9\, Zürich\,
  8006\, Schweiz;X-APPLE-RADIUS=100;X-TITLE=Röslischüür:geo:47.388508,8.
 541154
END:VEVENT
BEGIN:VTIMEZONE
TZID:Europe/Zurich
X-LIC-LOCATION:Europe/Zurich
BEGIN:DAYLIGHT
DTSTART:20250330T030000
TZOFFSETFROM:+0100
TZOFFSETTO:+0200
TZNAME:CEST
END:DAYLIGHT
END:VTIMEZONE
END:VCALENDAR