BEGIN:VCALENDAR
VERSION:2.0
PRODID:-//wp-events-plugin.com//7.2.3.1//EN
TZID:Europe/Zurich
X-WR-TIMEZONE:Europe/Zurich
BEGIN:VEVENT
UID:248@qkk6.ch
DTSTART;TZID=Europe/Zurich:20250908T193000
DTEND;TZID=Europe/Zurich:20250908T193000
DTSTAMP:20250826T101606Z
URL:https://www.qkk6.ch/events/2025/09/08/dorothea-zingg-les-chers-amis-al
 exa-candrian-ines-rikli-bruno-karthaus-literatur-musik-aus-dem-quartier-pr
 emiere/
SUMMARY:Dorothea Zingg & Les chers Amis: Alexa Candrian • Ines Rikli • 
 Bruno Karthaus. Literatur & Musik aus dem Quartier: Première
DESCRIPTION:Vier Geschichten in vier Jahreszeiten\nDie Autorin Dorothea Zin
 gg schreibt hauptsächlich Kurzgeschichten. Ihre Ideen schöpft sie aus al
 ltäglichen Erfahrungen\, die sie auf poetische Weise weiterspinnt. Die da
 rgestellten Figuren und ihre Handlungen sind frei erfunden. Die vier Gesch
 ichten des heutigen Abends sind unabhängig voneinander entstanden. Jede s
 pielt in einer anderen Jahreszeit: Der Herbst beginnt!\nLes Chers Amis spi
 elen Melodien mit originalen Quellen in der europäischen Volksmusik. Es i
 st während vieler Jahre ein grosses regenbogenbuntes Repertoire entstande
 n\, selber aufgezeichnet\, erweitert und arrangiert. Schwerpunkte sind Alt
 e Musik\, Ost-&amp\; West-Europa\, Skandinavien.\nLes Chers Amis und Dorot
 hea Zingg sind bisher noch nie mit einem gemeinsamen Programm aufgetreten.
  Nachdem sie sich schon lange kennen\, machen sie nun gemeinsame Kunstsach
 e für uns.\nWir freuen uns auf diese Première!\nDorothea Zingg &amp\; Le
 s Chers Amis Alexa Candrian • Ines Rikli • Bruno Karthaus &nbsp\;\nBar
 öffnung\, 18:30 Uhr\nKollekte\nPlatzzahl beschränkt
ATTACH;FMTTYPE=image/jpeg:https://www.qkk6.ch/wp-content/uploads/DZipg.1-e
 1754424514197.jpeg
LOCATION:Röslischüür\, Röslistrasse 9\, Zürich\, 8006\, Schweiz
GEO:47.388508;8.541154
X-APPLE-STRUCTURED-LOCATION;VALUE=URI;X-ADDRESS=Röslistrasse 9\, Zürich\,
  8006\, Schweiz;X-APPLE-RADIUS=100;X-TITLE=Röslischüür:geo:47.388508,8.
 541154
END:VEVENT
BEGIN:VTIMEZONE
TZID:Europe/Zurich
X-LIC-LOCATION:Europe/Zurich
BEGIN:DAYLIGHT
DTSTART:20250330T030000
TZOFFSETFROM:+0100
TZOFFSETTO:+0200
TZNAME:CEST
END:DAYLIGHT
END:VTIMEZONE
END:VCALENDAR