BEGIN:VCALENDAR
VERSION:2.0
PRODID:-//wp-events-plugin.com//7.2.3.1//EN
TZID:Europe/Zurich
X-WR-TIMEZONE:Europe/Zurich
BEGIN:VEVENT
UID:247@qkk6.ch
DTSTART;TZID=Europe/Zurich:20250828T200000
DTEND;TZID=Europe/Zurich:20250828T200000
DTSTAMP:20250805T195027Z
URL:https://www.qkk6.ch/events/2025/08/28/der-kontrabass-von-patrick-suesk
 ind/
SUMMARY:Der Kontrabass von Patrick Süskind
DESCRIPTION:Wiedehopf präsentiert den Kontrabass von Patrick Süskind\nges
 pielt von unserem Vorstandsmitglied Stefan Lahr\nKollekte\n\nBaröffnung 1
 9.00 Uhr\n\n&nbsp\;
ATTACH;FMTTYPE=image/jpeg:https://www.qkk6.ch/wp-content/uploads/IMG_3367-
 e1754423243969.jpg
LOCATION:Röslischüür\, Röslistrasse 9\, Zürich\, 8006\, Schweiz
GEO:47.388508;8.541154
X-APPLE-STRUCTURED-LOCATION;VALUE=URI;X-ADDRESS=Röslistrasse 9\, Zürich\,
  8006\, Schweiz;X-APPLE-RADIUS=100;X-TITLE=Röslischüür:geo:47.388508,8.
 541154
END:VEVENT
BEGIN:VTIMEZONE
TZID:Europe/Zurich
X-LIC-LOCATION:Europe/Zurich
BEGIN:DAYLIGHT
DTSTART:20250330T030000
TZOFFSETFROM:+0100
TZOFFSETTO:+0200
TZNAME:CEST
END:DAYLIGHT
END:VTIMEZONE
END:VCALENDAR