BEGIN:VCALENDAR
VERSION:2.0
PRODID:-//wp-events-plugin.com//7.2.3.1//EN
TZID:Europe/Zurich
X-WR-TIMEZONE:Europe/Zurich
BEGIN:VEVENT
UID:246@qkk6.ch
DTSTART;TZID=Europe/Zurich;VALUE=DATE:20250705
DTEND;TZID=Europe/Zurich;VALUE=DATE:20250706
DTSTAMP:20250627T130007Z
URL:https://www.qkk6.ch/events/2025/07/05/kreisflohmi-im-6i/
SUMMARY:Kreisflohmi im 6i
DESCRIPTION:Tipp:&nbsp\;Kreisflohmi im 6i&nbsp\;ist am Samstag\, 5. Juli:\n
 &nbsp\;&nbsp\;&nbsp\;&nbsp\;&nbsp\;&nbsp\;&nbsp\;&nbsp\;Zeit für Quartier
 erkundungen\, Recycling\, Trouvaillen\, Begegnungen aller Art
ATTACH;FMTTYPE=image/jpeg:https://www.qkk6.ch/wp-content/uploads/Karte-–
 -Kreisflohmi2-scaled-e1751023680667.jpg
CATEGORIES:Markt
END:VEVENT
BEGIN:VTIMEZONE
TZID:Europe/Zurich
X-LIC-LOCATION:Europe/Zurich
BEGIN:DAYLIGHT
DTSTART:20250330T030000
TZOFFSETFROM:+0100
TZOFFSETTO:+0200
TZNAME:CEST
END:DAYLIGHT
END:VTIMEZONE
END:VCALENDAR