BEGIN:VCALENDAR
VERSION:2.0
PRODID:-//wp-events-plugin.com//7.2.3.1//EN
TZID:Europe/Zurich
X-WR-TIMEZONE:Europe/Zurich
BEGIN:VEVENT
UID:244@qkk6.ch
DTSTART;TZID=Europe/Zurich:20250702T000000
DTEND;TZID=Europe/Zurich:20250710T000000
DTSTAMP:20250605T080223Z
URL:https://www.qkk6.ch/events/2025/07/02/womens-euro-2025-public-viewing/
SUMMARY:Women's EURO 2025 Public viewing
DESCRIPTION:Eine Veranstaltung des Quartierverein Unterstrass.
ATTACH;FMTTYPE=image/jpeg:https://www.qkk6.ch/wp-content/uploads/Womens_Eu
 ro_Plakat_01_web-e1749109448845.jpg
LOCATION:Röslischüür\, Röslistrasse 9\, Zürich\, 8006\, Schweiz
GEO:47.388508;8.541154
X-APPLE-STRUCTURED-LOCATION;VALUE=URI;X-ADDRESS=Röslistrasse 9\, Zürich\,
  8006\, Schweiz;X-APPLE-RADIUS=100;X-TITLE=Röslischüür:geo:47.388508,8.
 541154
END:VEVENT
BEGIN:VTIMEZONE
TZID:Europe/Zurich
X-LIC-LOCATION:Europe/Zurich
BEGIN:DAYLIGHT
DTSTART:20250330T030000
TZOFFSETFROM:+0100
TZOFFSETTO:+0200
TZNAME:CEST
END:DAYLIGHT
END:VTIMEZONE
END:VCALENDAR