BEGIN:VCALENDAR
VERSION:2.0
PRODID:-//wp-events-plugin.com//7.2.3.1//EN
TZID:Europe/Zurich
X-WR-TIMEZONE:Europe/Zurich
BEGIN:VEVENT
UID:240@qkk6.ch
DTSTART;TZID=Europe/Zurich:20250521T193000
DTEND;TZID=Europe/Zurich:20250521T193000
DTSTAMP:20250316T204451Z
URL:https://www.qkk6.ch/events/2025/05/21/roebi-koller-im-gespraech-mit-fr
 anz-hohler-ueber-die-bedeutung-von-dylan-mit-musiker-lukas-langenegger/
SUMMARY:Dylan Talk Nr.18\, Röbi Koller im Gespräch mit Franz Hohler. Musi
 k von Lukas Langenegger (ausgebucht)
DESCRIPTION:&nbsp\;\nRöbi Koller im Gespräch mit Franz Hohler über die B
 edeutung von Dylan. Mit Musiker Lukas Langenegger\nPlatzzahl beschränkt\n
 Kollekte\nBaröffnung: 18:30
ATTACH;FMTTYPE=image/jpeg:https://www.qkk6.ch/wp-content/uploads/image001-
 1.jpg
CATEGORIES:Konzert
LOCATION:Röslischüür\, Röslistrasse 9\, Zürich\, 8006\, Schweiz
GEO:47.388508;8.541154
X-APPLE-STRUCTURED-LOCATION;VALUE=URI;X-ADDRESS=Röslistrasse 9\, Zürich\,
  8006\, Schweiz;X-APPLE-RADIUS=100;X-TITLE=Röslischüür:geo:47.388508,8.
 541154
END:VEVENT
BEGIN:VTIMEZONE
TZID:Europe/Zurich
X-LIC-LOCATION:Europe/Zurich
BEGIN:DAYLIGHT
DTSTART:20250330T030000
TZOFFSETFROM:+0100
TZOFFSETTO:+0200
TZNAME:CEST
END:DAYLIGHT
END:VTIMEZONE
END:VCALENDAR