BEGIN:VCALENDAR
VERSION:2.0
PRODID:-//wp-events-plugin.com//7.2.3.1//EN
TZID:Europe/Zurich
X-WR-TIMEZONE:Europe/Zurich
BEGIN:VEVENT
UID:238@qkk6.ch
DTSTART;TZID=Europe/Zurich:20250512T200000
DTEND;TZID=Europe/Zurich:20250512T200000
DTSTAMP:20250121T165815Z
URL:https://www.qkk6.ch/events/2025/05/12/safety-last-stummfilm-von-harold
 -lloyd-1923-mit-live-begleitung-am-fluegel-karin-weissberg/
SUMMARY:Safety last\, Stummfilm von Harold Lloyd\, 1923 mit Live-Begleitung
  am Flügel: Karin Weissberg
DESCRIPTION:Im Stummfilmklassiker aus dem Jahr 1923 (USA) unter der Regie v
 on Fred C. Newmeyer\, Sam Taylor spielen Harold Lloyd\, Mildred Davies und
  Bill Strother die Hauptrollen.\nKarin Weissberg begleitet virtuos und ver
 spielt den Film mit eigens dafür komponierter Musik am Flügel. Zu Beginn
  erläutert sie uns den gesellschaftlichen und kulturhistorischen Rahmen d
 er Handlung:\n"Harold Lloyd spielt Harold\, den Jungen vom Lande\, der in 
 der grossen Stadt sein Glück machen will. Zurück bleibt das Mädchen Mil
 dred\, das er durch Macht und Reichtum zu beeindrucken versucht. Obwohl da
 s Leben als kleiner Verkäufer in einem Warenhaus mühsam und das Fortkomm
 en langsam ist\, präsentiert sich der Junge in den Briefen nach Hause als
  Senkrechtstarter. Doch das Lügengebäude gerät ins Wanken\, als Mildred
  zu Besuch in die Stadt kommt. Aus Angst vor Entlarvung wächst Harold üb
 er sich hinaus..."\nBerühmt wurde eine Szene des Films\, die in die Filmg
 eschichte einging: Harold hängt zappelnd am Zeiger einer riesigen Uhr an 
 der Fassade eines Wolkenkratzers\, weit über dem Strassenverkehr. Heute g
 ilt "Safety Last" als Komödienklassiker und Lloyds bekanntester Film.\nDa
 uer des Films mit Einführung:&nbsp\; 1 h 30 min\n&nbsp\;\n\nTickets erhal
 ten Sie hier&nbsp\;
ATTACH;FMTTYPE=image/jpeg:https://www.qkk6.ch/wp-content/uploads/beide.1-e
 1737478348293.jpeg
CATEGORIES:Film
LOCATION:Theater Rigiblick\, Germaniastrasse 99\, Zürich\, 8044\, Schweiz
GEO:47.388274;8.553456
X-APPLE-STRUCTURED-LOCATION;VALUE=URI;X-ADDRESS=Germaniastrasse 99\, Züric
 h\, 8044\, Schweiz;X-APPLE-RADIUS=100;X-TITLE=Theater Rigiblick:geo:47.388
 274,8.553456
END:VEVENT
BEGIN:VTIMEZONE
TZID:Europe/Zurich
X-LIC-LOCATION:Europe/Zurich
BEGIN:DAYLIGHT
DTSTART:20250330T030000
TZOFFSETFROM:+0100
TZOFFSETTO:+0200
TZNAME:CEST
END:DAYLIGHT
END:VTIMEZONE
END:VCALENDAR