BEGIN:VCALENDAR
VERSION:2.0
PRODID:-//wp-events-plugin.com//7.2.3.1//EN
TZID:Europe/Zurich
X-WR-TIMEZONE:Europe/Zurich
BEGIN:VEVENT
UID:242@qkk6.ch
DTSTART;TZID=Europe/Zurich:20250424T180000
DTEND;TZID=Europe/Zurich:20250424T180000
DTSTAMP:20250402T111214Z
URL:https://www.qkk6.ch/events/2025/04/24/wiedehopf-bar-kultur-mit-improth
 eater-spontikeit-allein-zu-haus-2/
SUMMARY:Die Wiedehopf Bar präsentiert: Das Improtheater mit Spontikeit All
 ein zu Haus
DESCRIPTION:&nbsp\;\n\nDies ist ein Anlass vom Quartierverein Unterstrass /
  Wiedehopf \n\nKollekte\n\nBaröffnung 18:00 Uhr
ATTACH;FMTTYPE=image/jpeg:https://www.qkk6.ch/wp-content/uploads/IMG_5988-
 e1743591960845.jpeg
CATEGORIES:Theater
LOCATION:Röslischüür\, Röslistrasse 9\, Zürich\, 8006\, Schweiz
GEO:47.388508;8.541154
X-APPLE-STRUCTURED-LOCATION;VALUE=URI;X-ADDRESS=Röslistrasse 9\, Zürich\,
  8006\, Schweiz;X-APPLE-RADIUS=100;X-TITLE=Röslischüür:geo:47.388508,8.
 541154
END:VEVENT
BEGIN:VTIMEZONE
TZID:Europe/Zurich
X-LIC-LOCATION:Europe/Zurich
BEGIN:DAYLIGHT
DTSTART:20250330T030000
TZOFFSETFROM:+0100
TZOFFSETTO:+0200
TZNAME:CEST
END:DAYLIGHT
END:VTIMEZONE
END:VCALENDAR