BEGIN:VCALENDAR
VERSION:2.0
PRODID:-//wp-events-plugin.com//7.2.3.1//EN
TZID:Europe/Zurich
X-WR-TIMEZONE:Europe/Zurich
BEGIN:VEVENT
UID:237@qkk6.ch
DTSTART;TZID=Europe/Zurich:20250328T193000
DTEND;TZID=Europe/Zurich:20250328T193000
DTSTAMP:20250328T132804Z
URL:https://www.qkk6.ch/events/2025/03/28/nachtmeerfahrt-eine-musikalische
 -lesung/
SUMMARY:NachtMeerFahrt\, eine musikalische Lesung mit Lilien Caprez und Ste
 fi Spinas
DESCRIPTION:NachtMehrFahrt\n\nEine musikalische Lesung gegen den Tod und in
  die Fülle des Lebens&nbsp\;\n\nmit Lilien Caprez und Stefi Spinas\n\nAn 
 diesem Abend tauchen beide Künstlerinnen auf ihre Weise in eine Welt von 
 «Zwischentönen» ein und lassen daraus ein kaleidoskopisches Ganzes ents
 tehen.\n\nLilien Caprez liest aus ihrem Buch «NachtMeerFahrt»\, in dem s
 ie uns aus nächster Nähe über ihre erlebte Todesnähe erzählt\, darüb
 er sinniert und reflektiert. Die Erfahrung einer physischen und emotionale
 n Odyssee und ihr Kampf ums Überleben gehen mit dem Zurücklassen von tra
 dierten\, tief verborgenen lebensfeindlichen Überzeugungen einher. Eine T
 ür zu einem befreiten Leben öffnet sich.\n\nDie Pianistin Stefi Spinas a
 us unserem Quartier spielt dazu Musik von F. Chopin\, F. Mompou\, Ph. Glas
 s\, F. Say\, A. Chatschaturjan\, G. Bizet\, u.a.&nbsp\;\n\nIhre Klänge ve
 rweben sich mit den gelesenen Worten\, so dass sich Gesprochenes und Gespi
 eltes zu einem schillernden Ganzen zusammenfügen.&nbsp\;\n\nDanach laden 
 die beiden Künstlerinnen das Publikum zum Dialog ein\, und die Autorin si
 gniert ihr Buch.&nbsp\;\n\n&nbsp\;\n\nPlatzzahl beschränkt\n\nKollekte\n\
 nBaröffnung 18:30 Uhr
ATTACH;FMTTYPE=image/jpeg:https://www.qkk6.ch/wp-content/uploads/IMG_2817-
 Kopie-scaled-e1734124933234.jpeg
CATEGORIES:Lesung
LOCATION:Röslischüür\, Röslistrasse 9\, Zürich\, 8006\, Schweiz
GEO:47.388508;8.541154
X-APPLE-STRUCTURED-LOCATION;VALUE=URI;X-ADDRESS=Röslistrasse 9\, Zürich\,
  8006\, Schweiz;X-APPLE-RADIUS=100;X-TITLE=Röslischüür:geo:47.388508,8.
 541154
END:VEVENT
BEGIN:VTIMEZONE
TZID:Europe/Zurich
X-LIC-LOCATION:Europe/Zurich
BEGIN:STANDARD
DTSTART:20241027T020000
TZOFFSETFROM:+0200
TZOFFSETTO:+0100
TZNAME:CET
END:STANDARD
END:VTIMEZONE
END:VCALENDAR