BEGIN:VCALENDAR
VERSION:2.0
PRODID:-//wp-events-plugin.com//7.2.3.1//EN
TZID:Europe/Zurich
X-WR-TIMEZONE:Europe/Zurich
BEGIN:VEVENT
UID:236@qkk6.ch
DTSTART;TZID=Europe/Zurich:20250203T200000
DTEND;TZID=Europe/Zurich:20250203T200000
DTSTAMP:20250130T222607Z
URL:https://www.qkk6.ch/events/2025/02/03/das-doppel-eine-barfuessige-grot
 eske/
SUMMARY:DAS DOPPEL\, eine barfüssige Groteske mit Jens Nielsen\, Peter Hot
 tinger\, Christian Käufeler (Saxophone)
DESCRIPTION:Das Doppel von Jens Nielsen\nfür zwei Schauspieler und einen M
 usiker\nJens Nielsen\, Peter Hottinger\, Christian Käufeler (Saxophone)\n
 &nbsp\;\nEin Autor und seine Figur streiten sich über Kern\, Sinn und Zie
 l ihrer Geschichte. Ein Mann tritt auf. Er beginnt\, ein Leben zu erzähle
 n. Der Musiker begleitet ihn.\nIm Publikum befindet sich ein zweiter Mann.
  Ihm scheint die Szene zu missfallen oder sie begeistert ihn. Er unterbric
 ht. Er äussert sich\, schlägt Änderungen vor oder befiehlt sie. Sie kom
 men ins Gespräch. Und in den Streit. Denn\, wie dieses Leben erzählt sei
 n soll\, das muss zuerst erinnert werden. Wie sich alles zugetragen hat\, 
 bleibt zu entscheiden. Das aber misslingt dem Mann im Publikum. Denn ein k
 urioses Trauma schlummert in den Tiefen der verschütteten Erinnerung.\nJe
 ns Nielsen als gewiefter Autor mit einem Hang zur Boshaftigkeit und romant
 ischen Kitschbildern verändert für die Figur – meisterhaft gespielt vo
 n Peter Hottinger – mit jedem neuen Gedanken dessen Ausgangslage: sehr a
 müsant!\nChristian Käufeler bläst derweil in seine drei Saxophone\, wei
 l die Umgebung einen nicht zu unterschätzenden Anteil an der Stimmung hat
 . Urban klingt anders als ländlich\, verloren wiederum nicht wie verbohrt
 .\nAm Ende steuert alles auf ein Ende hin\, das sich gewaschen hat.\nEine 
 GMBH-PRODUKUTION.CH\n&nbsp\;\nTickets erhalten Sie hier&nbsp\;&nbsp\;
ATTACH;FMTTYPE=image/jpeg:https://www.qkk6.ch/wp-content/uploads/Rigiblick
 foto_Das_Doppel_Hoch_Foto_Martha_Zu¨rcher-scaled-e1733332143729.jpg
CATEGORIES:Theater
LOCATION:Theater Rigiblick\, Germaniastrasse 99\, Zürich\, 8044\, Schweiz
GEO:47.388274;8.553456
X-APPLE-STRUCTURED-LOCATION;VALUE=URI;X-ADDRESS=Germaniastrasse 99\, Züric
 h\, 8044\, Schweiz;X-APPLE-RADIUS=100;X-TITLE=Theater Rigiblick:geo:47.388
 274,8.553456
END:VEVENT
BEGIN:VTIMEZONE
TZID:Europe/Zurich
X-LIC-LOCATION:Europe/Zurich
BEGIN:STANDARD
DTSTART:20241027T020000
TZOFFSETFROM:+0200
TZOFFSETTO:+0100
TZNAME:CET
END:STANDARD
END:VTIMEZONE
END:VCALENDAR