BEGIN:VCALENDAR
VERSION:2.0
PRODID:-//wp-events-plugin.com//7.2.3.1//EN
TZID:Europe/Zurich
X-WR-TIMEZONE:Europe/Zurich
BEGIN:VEVENT
UID:229@qkk6.ch
DTSTART;TZID=Europe/Zurich:20250129T193000
DTEND;TZID=Europe/Zurich:20250129T193000
DTSTAMP:20241205T212342Z
URL:https://www.qkk6.ch/events/2025/01/29/touching-your-soul-eine-musikali
 sche-berg-und-talfahrt-mit-reisebegleitung/
SUMMARY:Touching your Soul : Chansonabend mit Lucy Novotny (Gesang) und I
 ni Schulz (Klavier)
DESCRIPTION:Deine Seele berühren \n\nChansonabend: Eine musikalische Ber
 g-und Talfahrt mit Reisebegleitung von Lucy Novotny (Gesang) und Ini Schul
 z (Klavier)\n\n&nbsp\;\n\nIn den letzten 40 Jahren\, in denen Lucy mit unt
 erschiedlichen Formationen aufgetreten ist\, hat sie sich ein grosses Repe
 rtoire an Liedern angeeignet\, u.a. mit der Roma-Gruppe Dschané. Dies war
  der Anfang einer Herzöffnung. Ihre französischen Chansons singt sie mei
 sterhaft direkt unter die Haut.&nbsp\;\n\nMit Musik Emotionen wecken und a
 nregen\, sowie die Verbindung zum Publikum sind die Essenz ihres Programms
  mit Ini\, deren Hauptberuf mit einer Methode zu tun hat\, die das Zuhöre
 n anregt. Sie passt ihre intuitiven Klavierklänge Lucys Gesang an. Diese 
 wunderbare Gabe hat sie nicht zuletzt ihrem Klaviermeister Dave Ruosch zu 
 verdanken.\n\nTouching your Soul ist eine musikalische Ode an die Lebensfr
 eude.\n\n&nbsp\;\n\nPlatzzahl beschränkt\, Anmeldungen per E-Mail\n\nKoll
 ekte\n\nBaröffnung 18:30 Uhr
ATTACH;FMTTYPE=image/jpeg:https://www.qkk6.ch/wp-content/uploads/LucyIni-1
 -scaled-e1730722804775.jpg
LOCATION:Röslischüür\, Röslistrasse 9\, Zürich\, 8006\, Schweiz
GEO:47.388508;8.541154
X-APPLE-STRUCTURED-LOCATION;VALUE=URI;X-ADDRESS=Röslistrasse 9\, Zürich\,
  8006\, Schweiz;X-APPLE-RADIUS=100;X-TITLE=Röslischüür:geo:47.388508,8.
 541154
END:VEVENT
BEGIN:VTIMEZONE
TZID:Europe/Zurich
X-LIC-LOCATION:Europe/Zurich
BEGIN:STANDARD
DTSTART:20241027T020000
TZOFFSETFROM:+0200
TZOFFSETTO:+0100
TZNAME:CET
END:STANDARD
END:VTIMEZONE
END:VCALENDAR