BEGIN:VCALENDAR
VERSION:2.0
PRODID:-//wp-events-plugin.com//7.2.3.1//EN
TZID:Europe/Zurich
X-WR-TIMEZONE:Europe/Zurich
BEGIN:VEVENT
UID:228@qkk6.ch
DTSTART;TZID=Europe/Zurich:20250113T200000
DTEND;TZID=Europe/Zurich:20250113T200000
DTSTAMP:20241107T133444Z
URL:https://www.qkk6.ch/events/2025/01/13/vaeter-soehne/
SUMMARY:Väter & Söhne: Kammermusik mit Geschichten zweimal von Boeschot
 en und zweimal von Müller-Crepon
DESCRIPTION:VÄTER &amp\; SÖHNE&nbsp\;&nbsp\;&nbsp\;&nbsp\;&nbsp\;&nbsp\;&
 nbsp\;&nbsp\;&nbsp\;&nbsp\;&nbsp\;&nbsp\;&nbsp\;&nbsp\;&nbsp\;&nbsp\;&nbsp
 \;&nbsp\;&nbsp\;&nbsp\;&nbsp\;&nbsp\;&nbsp\;&nbsp\;&nbsp\;&nbsp\;&nbsp\;&n
 bsp\;&nbsp\;&nbsp\;&nbsp\;&nbsp\;&nbsp\;&nbsp\;&nbsp\;&nbsp\;&nbsp\;&nbsp\
 ;&nbsp\;&nbsp\;&nbsp\;&nbsp\;&nbsp\;&nbsp\;&nbsp\;&nbsp\;&nbsp\;&nbsp\;&nb
 sp\;&nbsp\;&nbsp\;&nbsp\;&nbsp\;&nbsp\;&nbsp\;&nbsp\;&nbsp\;&nbsp\;&nbsp\;
 &nbsp\;&nbsp\;&nbsp\;&nbsp\;&nbsp\;&nbsp\;&nbsp\;&nbsp\;&nbsp\;&nbsp\;&nbs
 p\;&nbsp\;&nbsp\;&nbsp\;&nbsp\;&nbsp\;&nbsp\;&nbsp\;&nbsp\;&nbsp\;&nbsp\;&
 nbsp\;&nbsp\;&nbsp\;&nbsp\;&nbsp\;&nbsp\;&nbsp\;&nbsp\;&nbsp\;&nbsp\;&nbsp
 \;&nbsp\;&nbsp\;&nbsp\;&nbsp\;&nbsp\;&nbsp\;&nbsp\;&nbsp\;&nbsp\;&nbsp\;&n
 bsp\;&nbsp\;&nbsp\;&nbsp\;&nbsp\;&nbsp\;&nbsp\;&nbsp\;&nbsp\;&nbsp\;&nbsp\
 ;&nbsp\;&nbsp\;&nbsp\;&nbsp\;&nbsp\;&nbsp\;&nbsp\;&nbsp\;&nbsp\;&nbsp\;&nb
 sp\;&nbsp\;&nbsp\;&nbsp\;&nbsp\;&nbsp\;&nbsp\;&nbsp\;&nbsp\;&nbsp\;&nbsp\;
 &nbsp\;&nbsp\;&nbsp\;&nbsp\;&nbsp\;&nbsp\;&nbsp\;&nbsp\;&nbsp\;&nbsp\;&nbs
 p\;&nbsp\;&nbsp\;&nbsp\;&nbsp\;\nIn Geschichten und auf der Bühne\n\nKamm
 ermusik mit Geschichten zweimal&nbsp\;von&nbsp\;Boeschoten und zweimal von
  Müller-Crepon.\n\n&nbsp\;\n\nDas Thema ist so alt wie die Menschheit. Au
 ch berühmte Musiker mussten sich mit ihrem Vater auseinandersetzen\, oder
  als Väter zusehen\, wie die folgende Generation eigene Wege ging. Die Be
 ispiele aus der Bach-Familie sind zahlreich\, und Leopold Mozart musste se
 inen Sohn schweren Herzens aus Salzburg nach Wien ziehen lassen. Bekannte 
 und weniger bekannte Vater-Sohn-Geschichten führen als roter Faden durch 
 das Programm mit Kammermusik aus verschiedenen Epochen.\n\nAuf der Bühne 
 – der Name ist Programm – Väter und Söhne: Alexander und Karel Boesc
 hoten\, Piano und Violine\, Joachim Müller-Crepon\, Violoncello\, Andreas
  Müller-Crepon\, Erzähler.\n\nWerke von Carl Philipp Emanuel und Johann 
 Sebastian Bach\, Leopold\, Wolfgang Amadé und Franz Xaver Mozart\, Johann
  Strauss Vater und Sohn\, Sándor Járóka und Sohn\, Anghelus und Grigora
 ș Dinicu (Grossvater und Sohn).\n\n&nbsp\;\n\nTickets erhalten Sie hier\n
 \n&nbsp\;
ATTACH;FMTTYPE=image/jpeg:https://www.qkk6.ch/wp-content/uploads/Vaeter-So
 ehne-e1727102889250.jpeg
CATEGORIES:Konzert
LOCATION:Theater Rigiblick\, Germaniastrasse 99\, Zürich\, 8044\, Schweiz
GEO:47.388274;8.553456
X-APPLE-STRUCTURED-LOCATION;VALUE=URI;X-ADDRESS=Germaniastrasse 99\, Züric
 h\, 8044\, Schweiz;X-APPLE-RADIUS=100;X-TITLE=Theater Rigiblick:geo:47.388
 274,8.553456
END:VEVENT
BEGIN:VTIMEZONE
TZID:Europe/Zurich
X-LIC-LOCATION:Europe/Zurich
BEGIN:STANDARD
DTSTART:20241027T020000
TZOFFSETFROM:+0200
TZOFFSETTO:+0100
TZNAME:CET
END:STANDARD
END:VTIMEZONE
END:VCALENDAR