BEGIN:VCALENDAR
VERSION:2.0
PRODID:-//wp-events-plugin.com//7.2.3.1//EN
TZID:Europe/Zurich
X-WR-TIMEZONE:Europe/Zurich
BEGIN:VEVENT
UID:230@qkk6.ch
DTSTART;TZID=Europe/Zurich:20250109T193000
DTEND;TZID=Europe/Zurich:20250109T193000
DTSTAMP:20250105T172147Z
URL:https://www.qkk6.ch/events/2025/01/09/buchvernissage-von-yves-schumach
 er/
SUMMARY:Buchvernissage von Yves Schumacher (ausgebucht!)
DESCRIPTION:&nbsp\;\n\nDer Autor aus dem Quartier präsentiert seinen neuen
  Roman: \n\nEin Sklave aus dem Entlebuch\n\nDer Roman verwebt drei Erzähl
 stränge zu einem schillernden Mosaik.\nPrimär geht es um die Auswanderun
 g von Andreas Stalder aus Flühli im Entlebuch nach Venedig\, wo er bitter
 e Erfahrungen als Galeerenruderer macht. Freibeuter überfallen sein Schif
 f und versklaven ihn in Algier. Er hat Glück im Unglück\, weil er von se
 inem Herrn gut behandelt wird. Er überwindet Vorurteile gegenüber Muslim
 en und Juden\, wird freigelassen\, zieht als Schiffszeichner in die marokk
 anische Seeräuberstadt Salé und heiratet.\nDer zweite\, kunstvoll eingef
 lochtene Erzählstrang erhellt die Hintergründe der kriegerischen Auseina
 ndersetzungen von Amerika und Frankreich mit den islamischen Mittelmeersta
 aten.\nZum Dritten bietet das Buch ein faszinierendes Lehrstück über die
  mediterrane Schifffahrt\, die Andreas Stalder und sein Sohn Idir hautnah 
 erleben.\n\n&nbsp\;\nDer Anlass ist ausgebucht!\n&nbsp\;Kollekte\n\nBaröf
 fnung 18.30 Uhr
ATTACH;FMTTYPE=image/jpeg:https://www.qkk6.ch/wp-content/uploads/Portraet-
 YS-e1729598700571.jpg
CATEGORIES:Lesung
LOCATION:Röslischüür\, Röslistrasse 9\, Zürich\, 8006\, Schweiz
GEO:47.388508;8.541154
X-APPLE-STRUCTURED-LOCATION;VALUE=URI;X-ADDRESS=Röslistrasse 9\, Zürich\,
  8006\, Schweiz;X-APPLE-RADIUS=100;X-TITLE=Röslischüür:geo:47.388508,8.
 541154
END:VEVENT
BEGIN:VTIMEZONE
TZID:Europe/Zurich
X-LIC-LOCATION:Europe/Zurich
BEGIN:STANDARD
DTSTART:20241027T020000
TZOFFSETFROM:+0200
TZOFFSETTO:+0100
TZNAME:CET
END:STANDARD
END:VTIMEZONE
END:VCALENDAR