BEGIN:VCALENDAR
VERSION:2.0
PRODID:-//wp-events-plugin.com//7.2.3.1//EN
TZID:Europe/Zurich
X-WR-TIMEZONE:Europe/Zurich
BEGIN:VEVENT
UID:224@qkk6.ch
DTSTART;TZID=Europe/Zurich:20241202T193000
DTEND;TZID=Europe/Zurich:20241202T193000
DTSTAMP:20241008T190207Z
URL:https://www.qkk6.ch/events/2024/12/02/lesung-mit-musik-david-weber-lie
 st-aus-der-beginn-einer-beziehung-mit-musikerin-jasmin-loetscher/
SUMMARY:Literatur Live! Der Beginn einer Beziehung - Von David Weber
DESCRIPTION:Mit David Weber und Jasmin Lötscher\nDer Rockmusiker Pedro Oli
 veira macht in einem abgelegenen Schweizer Bergdorf seinen dritten Alkohol
 -Entzug. Am letzten Wochenende erhält er Besuch. Lena wollte ihn unbeding
 t sehen. Sie bringt einen Überraschungsgast mit - die Schauspielerin Bett
 ina. Ein Fehler.&nbsp\;\n\nDavid Weber bringt den Roman\, zusammen mit der
  Musikerin Jasmin Lötscher\, auch auf die Bühne. Es ist bereits das drit
 te gemeinsame Bühnenprogramm. Zu Sex\, Drugs and Rock’n’Roll bringt L
 ötscher die passenden Gitarrenriffs mit Verzerrer und viel Electronics.\n
 \nEine böse Story\, untermalt mit dem treffenden Sound. Literatur Live!\n
 \n&nbsp\;\n\nPlatzzahl beschränkt\, Anmeldungen per E-Mail\n\n&nbsp\;Koll
 ekte\n\nBaröffnung 18:30 Uhr
ATTACH;FMTTYPE=image/jpeg:https://www.qkk6.ch/wp-content/uploads/Portraet_
 Jasmin_David_rechtekig-scaled-e1728412714809.jpg
CATEGORIES:Lesung
LOCATION:Röslischüür\, Röslistrasse 9\, Zürich\, 8006\, Schweiz
GEO:47.388508;8.541154
X-APPLE-STRUCTURED-LOCATION;VALUE=URI;X-ADDRESS=Röslistrasse 9\, Zürich\,
  8006\, Schweiz;X-APPLE-RADIUS=100;X-TITLE=Röslischüür:geo:47.388508,8.
 541154
END:VEVENT
BEGIN:VTIMEZONE
TZID:Europe/Zurich
X-LIC-LOCATION:Europe/Zurich
BEGIN:STANDARD
DTSTART:20241027T020000
TZOFFSETFROM:+0200
TZOFFSETTO:+0100
TZNAME:CET
END:STANDARD
END:VTIMEZONE
END:VCALENDAR