BEGIN:VCALENDAR
VERSION:2.0
PRODID:-//wp-events-plugin.com//7.2.3.1//EN
TZID:Europe/Zurich
X-WR-TIMEZONE:Europe/Zurich
BEGIN:VEVENT
UID:232@qkk6.ch
DTSTART;TZID=Europe/Zurich:20241128T193000
DTEND;TZID=Europe/Zurich:20241128T193000
DTSTAMP:20250124T210231Z
URL:https://www.qkk6.ch/events/2024/11/28/wiedehopf-bar-kultur-mit-improth
 eater-spontikeit-allein-zu-haus/
SUMMARY:Wiedehopf Bar & Kultur mit Improtheater Spontikeit Allein zu Haus
DESCRIPTION:Dies ist ein Anlass vom QVU/ Wiedehopf\n\nKollekte\n\nBaröffnu
 ng 18:00 Uhr\n\n&nbsp\;
ATTACH;FMTTYPE=image/jpeg:https://www.qkk6.ch/wp-content/uploads/Impro_Fly
 er_Insta_02-1-e1730985751842.jpg
CATEGORIES:Theater
LOCATION:Röslischüür\, Röslistrasse 9\, Zürich\, 8006\, Schweiz
GEO:47.388508;8.541154
X-APPLE-STRUCTURED-LOCATION;VALUE=URI;X-ADDRESS=Röslistrasse 9\, Zürich\,
  8006\, Schweiz;X-APPLE-RADIUS=100;X-TITLE=Röslischüür:geo:47.388508,8.
 541154
END:VEVENT
BEGIN:VTIMEZONE
TZID:Europe/Zurich
X-LIC-LOCATION:Europe/Zurich
BEGIN:STANDARD
DTSTART:20241027T020000
TZOFFSETFROM:+0200
TZOFFSETTO:+0100
TZNAME:CET
END:STANDARD
END:VTIMEZONE
END:VCALENDAR