BEGIN:VCALENDAR
VERSION:2.0
PRODID:-//wp-events-plugin.com//7.2.3.1//EN
TZID:Europe/Zurich
X-WR-TIMEZONE:Europe/Zurich
BEGIN:VEVENT
UID:227@qkk6.ch
DTSTART;TZID=Europe/Zurich:20241124T110000
DTEND;TZID=Europe/Zurich:20241124T160000
DTSTAMP:20241119T154952Z
URL:https://www.qkk6.ch/events/2024/11/24/design-markt-roesli-2024-2/
SUMMARY:Design-Markt Rösli 2024
DESCRIPTION:Liste der Ausstellerinnen\nEntdecken Sie an unserem Design-Mark
 t in der Röslischüür Produkte von 15 unabhängigen Labels und Kleinstpr
 oduzentinnen und -produzenten aus dem Kreis 6.\n\nFreuen Sie sich auch auf
  Quartierbegegnungen bei einem Glas Wein oder einem anderen Getränk in un
 serer neuen Bar.\n\nGemeinsam mit dem Quartierverein Unterstrass freuen wi
 r uns\, Sie an einem\nstimmungsvollen Markttag in der Röslischüür zu be
 grüssen.\n\n&nbsp\;Zu beachten: Der Anlass findet ebenfalls am Samstag 23
 .11.2024\, 12.00 - 18.00 Uhr statt.
ATTACH;FMTTYPE=image/jpeg:https://www.qkk6.ch/wp-content/uploads/bild_desi
 gnmarkt_2024-1-e1723383549480.jpg
LOCATION:Röslischüür\, Röslistrasse 9\, Zürich\, 8006\, Schweiz
GEO:47.388508;8.541154
X-APPLE-STRUCTURED-LOCATION;VALUE=URI;X-ADDRESS=Röslistrasse 9\, Zürich\,
  8006\, Schweiz;X-APPLE-RADIUS=100;X-TITLE=Röslischüür:geo:47.388508,8.
 541154
END:VEVENT
BEGIN:VTIMEZONE
TZID:Europe/Zurich
X-LIC-LOCATION:Europe/Zurich
BEGIN:STANDARD
DTSTART:20241027T020000
TZOFFSETFROM:+0200
TZOFFSETTO:+0100
TZNAME:CET
END:STANDARD
END:VTIMEZONE
END:VCALENDAR