BEGIN:VCALENDAR
VERSION:2.0
PRODID:-//wp-events-plugin.com//7.2.3.1//EN
TZID:Europe/Zurich
X-WR-TIMEZONE:Europe/Zurich
BEGIN:VEVENT
UID:220@qkk6.ch
DTSTART;TZID=Europe/Zurich:20241026T200000
DTEND;TZID=Europe/Zurich:20241026T200000
DTSTAMP:20241006T112003Z
URL:https://www.qkk6.ch/events/2024/10/26/zuerich-liest-alles-in-allem-kur
 t-guggenheim-die-fruehen-jahre-teil-ii-lesung-mit-klaus-henner/
SUMMARY:Zürich liest: Alles in Allem\, Roman von Kurt Guggenheim. Teil 2\,
  die Jahre 1919 bis 1945. Lesung mit Wolfgang Beuschel
DESCRIPTION:Erleben Sie nach der zwölfstündigen Theaterreise «alles in a
 llem 2019» das kleine Format und lernen sie die Stadt Zürich durch die A
 ugen des Schriftstellers Kurt Guggenheim kennen. Wolfgang Beuschel macht G
 uggenheims\nEpochenroman lebendig\, indem sich in seiner Lesung Zürichs V
 ergangenheit mit der Gegenwart des Publikums mischt und dabei ein bunter p
 anoramischer Erlebnisbogen voller Zauber und Wirkkraft entsteht. Der Roman
  lebt von den Beziehungen zwischen den Menschen untereinander und der Stad
 t und wie sie sich im Lauf der Jahre verändern. Die ausgewählten Texte h
 aben oftmals einen örtlichen Bezug zu Unterstrass\, Fluntern und zum Zür
 ichberg.\n\nTextkonzept:\nPeter Brunner\nRechte:\nCharles Linsmayer\nund K
 urt und Gertrud Guggenheim-Stiftung\n\nTeil 2:\nDie Jahre 1919 bis 1945\
 n\nDas Buch zur Lesung:\nAlles in Allem. Roman\nMit einer Einführung und 
 28 Illustrationen von Hannes Binder\nNeu herausgegeben von Charles Linsmay
 er\nTh. Gut Verlag Zürich\, 2018\nISBN&nbsp\; 978-3-85717-272-4\n\n&nbs
 p\;\n\nPlatzzahl beschränkt\, Anmeldungen per E-Mail\n\n&nbsp\;Kollekte\n
 \nBaröffnung 19.00 Uhr\n\nZu beachten: Der Anlass findet ebenfalls am Son
 ntag 27.10.2024 um 17.00 Uhr statt.
ATTACH;FMTTYPE=image/jpeg:https://www.qkk6.ch/wp-content/uploads/Alles-in-
 Allem-3.1-e1724535865368.jpeg
LOCATION:Röslischüür\, Röslistrasse 9\, Zürich\, 8006\, Schweiz
GEO:47.388508;8.541154
X-APPLE-STRUCTURED-LOCATION;VALUE=URI;X-ADDRESS=Röslistrasse 9\, Zürich\,
  8006\, Schweiz;X-APPLE-RADIUS=100;X-TITLE=Röslischüür:geo:47.388508,8.
 541154
END:VEVENT
BEGIN:VTIMEZONE
TZID:Europe/Zurich
X-LIC-LOCATION:Europe/Zurich
BEGIN:DAYLIGHT
DTSTART:20240331T030000
TZOFFSETFROM:+0100
TZOFFSETTO:+0200
TZNAME:CEST
END:DAYLIGHT
END:VTIMEZONE
END:VCALENDAR