BEGIN:VCALENDAR
VERSION:2.0
PRODID:-//wp-events-plugin.com//7.2.3.1//EN
TZID:Europe/Zurich
X-WR-TIMEZONE:Europe/Zurich
BEGIN:VEVENT
UID:219@qkk6.ch
DTSTART;TZID=Europe/Zurich:20241025T200000
DTEND;TZID=Europe/Zurich:20241025T200000
DTSTAMP:20241006T111924Z
URL:https://www.qkk6.ch/events/2024/10/25/zuerich-liest-peter-k-wehrli-lie
 st-aus-katalog-von-allem/
SUMMARY:Zürich liest: Peter K. Wehrli liest aus ‘Katalog von allem’
DESCRIPTION:Bilder aus Sprache\nPeter K. Wehrli liest die neuesten Episoden
 \naus seinem «Katalog von Allem»\nWeil Peter K. Wehrli auf der Fahrt im 
 Orient-Express von Zürich nach Beirut seinen Fotoapparat vergessen hatte\
 , entschied er sich\, alles\, was er fotografiert hätte\, in Bildern aus 
 Sprache festzuhalten – damit hatte Wehrli den Katalog zur literarischen 
 Gattung erhoben.\nSeit bald 50 Jahren lässt ihn diese systematische Art d
 es Wahrnehmens nicht mehr los.\nDer neue Blick auf Vertrautes macht das Wa
 hrnehmen zum Abenteuer! Lesungen in den USA\, in Südamerika\, Moçambique
 \, Hongkong u.a.&nbsp\; machen deutlich\, dass diese intensive Art des Erl
 ebens durch keine politischen oder kulturellen Grenzen eingeengt ist.\nPre
 ssestimmen\n«Wunderbare\, wunderliche\, traurige und fröhliche Augenblic
 ke\, die so unglaublich präzise beobachtet sind\, dass man teilweise ratl
 os zurückbleibt und sich fragt\, was man in seinem Leben eigentlich alles
  übersehen hat. Genauer als Wehrli in seinen Katalogeinträgen kann man n
 icht hinsehen. Ein großartiges Experiment!» – Kölner Presse\n\n«Alle
 s Bedeutungsschwangere\, Schwergewichtige\, das Büchern von ähnlicher Ko
 mplexität oft anhaftet\, fehlt im 'Katalog von Allem'. Es wird ersetzt du
 rch eine Genauigkeit der Beobachtung\, die einem den Atem verschlägt und 
 aufs Beste amüsiert...Es gibt nicht viele Bücher\, deren literarische 'H
 altbarkeit' man voraussagen kann. Der 'Katalog von Allem' ist eins von ihn
 en!» – Die Welt\, Hamburg\nPlatzzahl beschränkt\, Anmeldungen per E-Ma
 il\n\n&nbsp\;Kollekte\n\nBaröffnung 19.00 Uhr
ATTACH;FMTTYPE=image/jpeg:https://www.qkk6.ch/wp-content/uploads/pkw-e1656
 667358546.jpg
LOCATION:Röslischüür\, Röslistrasse 9\, Zürich\, 8006\, Schweiz
GEO:47.388508;8.541154
X-APPLE-STRUCTURED-LOCATION;VALUE=URI;X-ADDRESS=Röslistrasse 9\, Zürich\,
  8006\, Schweiz;X-APPLE-RADIUS=100;X-TITLE=Röslischüür:geo:47.388508,8.
 541154
END:VEVENT
BEGIN:VTIMEZONE
TZID:Europe/Zurich
X-LIC-LOCATION:Europe/Zurich
BEGIN:DAYLIGHT
DTSTART:20240331T030000
TZOFFSETFROM:+0100
TZOFFSETTO:+0200
TZNAME:CEST
END:DAYLIGHT
END:VTIMEZONE
END:VCALENDAR