BEGIN:VCALENDAR
VERSION:2.0
PRODID:-//wp-events-plugin.com//7.2.3.1//EN
TZID:Europe/Zurich
X-WR-TIMEZONE:Europe/Zurich
BEGIN:VEVENT
UID:213@qkk6.ch
DTSTART;TZID=Europe/Zurich:20240903T200000
DTEND;TZID=Europe/Zurich:20240903T200000
DTSTAMP:20240825T213216Z
URL:https://www.qkk6.ch/events/2024/09/03/gadjolinos-gypsy-swing-ensemble/
SUMMARY:Gadjolinos Gypsy Swing Ensemble
DESCRIPTION:Gadjolinos Gypsy Swing Ensemble \nDas fünfköpfige Ensemble ha
 t sich ganz dem Jazz des «Hot Club de France» von Django Reinhardt und S
 téphane Grapelli verschrieben. Seit sieben Jahren bespielt und erfreut da
 s Gadjolinos Gypsy Swing Ensemble die ganze Schweiz mit seinem Sound. Das 
 Song-Repertoire ist gespickt mit Swing Standards\, schmachtenden Boléros\
 , schwelgerischen Walzern\, geschmeidigen Balladen und einigen Gypsy Bossa
 s. Bandleader und Sologitarrist Christian Ruh wandelt bereits seit 16 Jahr
 en auf diesen musikalischen Pfaden. Marc Luisoni an der Violine\, Mitglied
  des Tonhalle Orchesters Zürich\, sowie der schweizweit bekannte Klarinet
 tist Simon Wyrsch tragen mit ihren virtuosen Melodien und Soli zu diesem m
 usikalischen Feuerwerk bei. Begleitet werden die drei Solisten von den une
 rschütterlich swingenden Dani Zürcher an der Rhythmusgitarre und Augusti
 n Maissen am Kontrabass.\n\nDoch nicht nur musikalisch\, sondern auch modi
 sch verneigt sich das Gadjolino Gypys Swing Ensemble vor seinen Vorbildern
 : Um das Publikum noch mehr in das Feeling der damaligen Epoche hineinzuve
 rsetzen\, kleiden sich die Gadjolinos bei ihren Auftritten ganz nach der M
 ode der damaligen Zeit. Freuen wir uns also auf eine audiovisuelle Zeitrei
 se in die goldene Ära des Gypsy Swing!\n\nMarc Luisoni — Violine\nSimon
  Wyrsch — Klarinette\nChristian Ruh — Gitarre\nDani Zürcher — Gitar
 re\nAugustin Maissen — Kontrabass\n\nwww.gadjolinos.ch\n\nEs hat noch Pl
 ätze frei!&nbsp\;Anmeldungen per E-Mail\n\n&nbsp\;Kollekte
ATTACH;FMTTYPE=image/jpeg:https://www.qkk6.ch/wp-content/uploads/Gadjolino
 s-Ensemble-Logo-e1708612155821.jpg
CATEGORIES:Konzert
LOCATION:Röslischüür\, Röslistrasse 9\, Zürich\, 8006\, Schweiz
GEO:47.388508;8.541154
X-APPLE-STRUCTURED-LOCATION;VALUE=URI;X-ADDRESS=Röslistrasse 9\, Zürich\,
  8006\, Schweiz;X-APPLE-RADIUS=100;X-TITLE=Röslischüür:geo:47.388508,8.
 541154
END:VEVENT
BEGIN:VTIMEZONE
TZID:Europe/Zurich
X-LIC-LOCATION:Europe/Zurich
BEGIN:DAYLIGHT
DTSTART:20240331T030000
TZOFFSETFROM:+0100
TZOFFSETTO:+0200
TZNAME:CEST
END:DAYLIGHT
END:VTIMEZONE
END:VCALENDAR