BEGIN:VCALENDAR
VERSION:2.0
PRODID:-//wp-events-plugin.com//7.2.3.1//EN
TZID:Europe/Zurich
X-WR-TIMEZONE:Europe/Zurich
BEGIN:VEVENT
UID:218@qkk6.ch
DTSTART;TZID=Europe/Zurich;VALUE=DATE:20240831
DTEND;TZID=Europe/Zurich;VALUE=DATE:20240902
DTSTAMP:20240703T124639Z
URL:https://www.qkk6.ch/events/2024/08/31/atelierkultour-kreis-6/
SUMMARY:Atelierkultour Kreis 6
DESCRIPTION:Am 31. August und 1. September 2024 findet nun die zweite Aufla
 ge statt www.atelierkultour.ch\nWer seine kreativen Arbeiten zeigen möcht
 e\, melde sich bitte bis zum 30. Juni an unter &nbsp\;https://www.atelierk
 ultour.ch/anmeldung/ Spätere Anmeldungen können ebenfalls noch entgegeng
 enommen werden.
ATTACH;FMTTYPE=image/jpeg:https://www.qkk6.ch/wp-content/uploads/Atelierku
 ltour-e1716654238583.jpg
CATEGORIES:Ausstellung
LOCATION:Röslischüür\, Röslistrasse 9\, Zürich\, 8006\, Schweiz
GEO:47.388508;8.541154
X-APPLE-STRUCTURED-LOCATION;VALUE=URI;X-ADDRESS=Röslistrasse 9\, Zürich\,
  8006\, Schweiz;X-APPLE-RADIUS=100;X-TITLE=Röslischüür:geo:47.388508,8.
 541154
END:VEVENT
BEGIN:VTIMEZONE
TZID:Europe/Zurich
X-LIC-LOCATION:Europe/Zurich
BEGIN:DAYLIGHT
DTSTART:20240331T030000
TZOFFSETFROM:+0100
TZOFFSETTO:+0200
TZNAME:CEST
END:DAYLIGHT
END:VTIMEZONE
END:VCALENDAR