BEGIN:VCALENDAR
VERSION:2.0
PRODID:-//wp-events-plugin.com//7.2.3.1//EN
TZID:Europe/Zurich
X-WR-TIMEZONE:Europe/Zurich
BEGIN:VEVENT
UID:217@qkk6.ch
DTSTART;TZID=Europe/Zurich:20240617T200000
DTEND;TZID=Europe/Zurich:20240617T200000
DTSTAMP:20240612T054605Z
URL:https://www.qkk6.ch/events/2024/06/17/alles-in-allem-von-kurt-guggenhe
 im-teil-1-lesung-mit-wolfgang-beuschel/
SUMMARY:«Alles in Allem» von Kurt Guggenheim (Teil 1): Lesung mit Wolfgan
 g Beuschel (Ausgebucht!)
DESCRIPTION:«Alles in Allem» von Kurt Guggenheim\n\nDer Anlass ist ausgeb
 ucht!\n\nLernen Sie die Stadt Zürich durch die Augen des Schriftstellers 
 und zeitweiligen Kreis-6-Bewohners Kurt Guggenheim kennen. Wolfgang Beusch
 el macht Guggenheims Epochenroman lebendig indem sich in seiner Lesung Zü
 richs Vergangenheit mit der Gegenwart des Publikums vermischt und dabei ei
 n bunter panoramischer Erlebnisbogen voller Zauber und Wirkkraft entsteht.
  Der Roman lebt von den Beziehungen zwischen Menschen und wie sie sich im 
 Lauf der Jahre verändern. Die ausgewählten Texte haben oftmals einen ör
 tlichen Bezug zu Unterstrass\, Fluntern und zum Zürichberg.\n\nTeil 1\, B
 uch 1 bis 2: Die Jahre 1900 bis 1918. Dauer: 65-70 Minuten.\n\nQuartier-Ku
 ltur Kreis 6 &amp\; verein alles in allem: ein Zusammenspiel\n\nTextkonzep
 t: Peter Brunner https://peter-brunner-projekte.ch/ in Zusammenarbeit mit 
 Wolfgang Beuschel.\nRechte: Charles Linsmayer. Dauer: 65-70 Minuten.\n\n(T
 eil 2\, Buch 3 und 4: Die Jahre 1919 bis 1945\, werden hier im Rahmen von 
 «Zürich liest» am 26./27. Oktober 2024 vorgestellt.)\n\nDas Buch zur Le
 sung: Kurt Guggenheim\, Alles in Allem. Roman. Mit einer Einführung und 2
 8 Illustrationen von Hannes Binder neu herausgegeben von Charles Linsmayer
 . Th. Gut Verlag Zürich\, 2018\, ISBN 978-3-85717-272-4\n\nPlatzzahl besc
 hränkt\, Anmeldungen per E-Mail\n\n&nbsp\;Kollekte
ATTACH;FMTTYPE=image/jpeg:https://www.qkk6.ch/wp-content/uploads/Schoene_A
 ussischten_600dpihb-weiss-scaled-e1712332480993.jpg
CATEGORIES:Lesung
LOCATION:Röslischüür\, Röslistrasse 9\, Zürich\, 8006\, Schweiz
GEO:47.388508;8.541154
X-APPLE-STRUCTURED-LOCATION;VALUE=URI;X-ADDRESS=Röslistrasse 9\, Zürich\,
  8006\, Schweiz;X-APPLE-RADIUS=100;X-TITLE=Röslischüür:geo:47.388508,8.
 541154
END:VEVENT
BEGIN:VTIMEZONE
TZID:Europe/Zurich
X-LIC-LOCATION:Europe/Zurich
BEGIN:DAYLIGHT
DTSTART:20240331T030000
TZOFFSETFROM:+0100
TZOFFSETTO:+0200
TZNAME:CEST
END:DAYLIGHT
END:VTIMEZONE
END:VCALENDAR