BEGIN:VCALENDAR
VERSION:2.0
PRODID:-//wp-events-plugin.com//7.2.3.1//EN
TZID:Europe/Zurich
X-WR-TIMEZONE:Europe/Zurich
BEGIN:VEVENT
UID:210@qkk6.ch
DTSTART;TZID=Europe/Zurich:20240530T200000
DTEND;TZID=Europe/Zurich:20240530T200000
DTSTAMP:20240525T053821Z
URL:https://www.qkk6.ch/events/2024/05/30/marine-racine/
SUMMARY:Marianne Racine und Sibylle Aeberli (Ausgebucht!)
DESCRIPTION:Marianne Racine und Sibylle Aeberli\n\nDer Anlass ist ausgebuch
 t!\n\n\nAeberli und Racine. Als wären sie füreinander gemacht!\nBeide Fr
 auen kennen und bewegen sich schon ewig im Zürcher Musig Chueche. Aeberli
  als Schtärneföifi Frontfrau und in der freien Theaterszene\,&nbsp\; Rac
 ine als Jazzlady und Schwedischfolk-Lerche. Vor einem Jahr bestritten sie 
 ihr erstes gemeinsame Konzert - nun geht es richtig los!\nRacine &amp\; Ae
 berli laden zur grossen Sause\, recyclieren die Soundtracks ihrer Teenieze
 iten\, interpretieren eigene Hits und tischen frisches Songmaterial aus de
 m Jetzt auf.\nDie Funken sprühen! Hoch musikalisch engagiert wird eingehe
 izt mit Sing und Spielfreude - auf hellere Tage und bessere Zeiten.\n\nSIB
 YLLE AEBERLI voc\, git\nMARIANNE RACINE voc\, p\n\n\nEintritt frei\, Kolle
 kte\, Platzzahl beschränkt\, Anmeldungen bis 28.05.24 E-Mail
ATTACH;FMTTYPE=image/jpeg:https://www.qkk6.ch/wp-content/uploads/aeberlira
 cine-e1701881675816.jpeg
CATEGORIES:Konzert,Theater
LOCATION:Röslischüür\, Röslistrasse 9\, Zürich\, 8006\, Schweiz
GEO:47.388508;8.541154
X-APPLE-STRUCTURED-LOCATION;VALUE=URI;X-ADDRESS=Röslistrasse 9\, Zürich\,
  8006\, Schweiz;X-APPLE-RADIUS=100;X-TITLE=Röslischüür:geo:47.388508,8.
 541154
END:VEVENT
BEGIN:VTIMEZONE
TZID:Europe/Zurich
X-LIC-LOCATION:Europe/Zurich
BEGIN:DAYLIGHT
DTSTART:20240331T030000
TZOFFSETFROM:+0100
TZOFFSETTO:+0200
TZNAME:CEST
END:DAYLIGHT
END:VTIMEZONE
END:VCALENDAR