BEGIN:VCALENDAR
VERSION:2.0
PRODID:-//wp-events-plugin.com//7.2.3.1//EN
TZID:Europe/Zurich
X-WR-TIMEZONE:Europe/Zurich
BEGIN:VEVENT
UID:211@qkk6.ch
DTSTART;TZID=Europe/Zurich:20240521T200000
DTEND;TZID=Europe/Zurich:20240521T200000
DTSTAMP:20231125T180238Z
URL:https://www.qkk6.ch/events/2024/05/21/die-wunderuebung-eine-zapzarap-p
 roduktion/
SUMMARY:Die Wunderübung: eine Zapzarap Produktion
DESCRIPTION:Die Wunderübung von Daniel Glattauer: Eine zapzarap – Produk
 tion\nDas Setting im Kammerspiel des Erfolgsautors Daniel Glattauer ist ve
 rmeintlich simpel. Ein verheiratetes Paar geht in die Therapie\, um ihre z
 errüttete Beziehung zu retten. Doch die Bemühungen des Therapeuten schei
 tern kläglich. Bis zu der unerwarteten Wendung\, bei der die Beziehungspr
 obleme des Therapeuten aufbrechen. Das Paar rutscht unversehens in die The
 rapeutenrolle und kämpft für die Liebe des Therapeuten. Bei diesem spann
 ungsgeladenen Ritt durch Höhen und Tiefen des Beziehungslabyrinths\, kann
  sich das Publikum zurücklehnen und mit einer gesunden Portion Selbstiron
 ie dem Treiben zuschauen.\n\nzapzarap stellt Schauspiel und Musik in all s
 einen Facetten ins Zentrum. Die Musik verstärkt Emotionen\, treibt Situat
 ionen voran und dient als rauchender Katalysator. Dies verleiht den skurri
 len Inszenierungen Schmackes und macht das Ensemble einzigartig.\n\nMit: M
 arion Mühlebach\, Jan Hubacher\, Giuseppe Spina\nRegie: Florian Steiner\n
 \nEintritt: 35.-/30.- Ticket Shop Theater Rigiblick https://www.theater-ri
 giblick.ch/&nbsp\; tickets@theater-rigiblick.ch 
ATTACH;FMTTYPE=image/jpeg:https://www.qkk6.ch/wp-content/uploads/Bild2.jpg
CATEGORIES:Konzert,Lesung,Theater
LOCATION:Theater Rigiblick\, Germaniastrasse 99\, Zürich\, 8044\, Schweiz
GEO:47.388274;8.553456
X-APPLE-STRUCTURED-LOCATION;VALUE=URI;X-ADDRESS=Germaniastrasse 99\, Züric
 h\, 8044\, Schweiz;X-APPLE-RADIUS=100;X-TITLE=Theater Rigiblick:geo:47.388
 274,8.553456
END:VEVENT
BEGIN:VTIMEZONE
TZID:Europe/Zurich
X-LIC-LOCATION:Europe/Zurich
BEGIN:DAYLIGHT
DTSTART:20240331T030000
TZOFFSETFROM:+0100
TZOFFSETTO:+0200
TZNAME:CEST
END:DAYLIGHT
END:VTIMEZONE
END:VCALENDAR