BEGIN:VCALENDAR
VERSION:2.0
PRODID:-//wp-events-plugin.com//7.2.3.1//EN
TZID:Europe/Zurich
X-WR-TIMEZONE:Europe/Zurich
BEGIN:VEVENT
UID:212@qkk6.ch
DTSTART;TZID=Europe/Zurich:20240429T200000
DTEND;TZID=Europe/Zurich:20240429T200000
DTSTAMP:20240429T114944Z
URL:https://www.qkk6.ch/events/2024/04/29/kurt-guggenheim-die-fruehen-jahr
 e/
SUMMARY:Ausgebucht: Kurt Guggenheim: die frühen Jahre
DESCRIPTION:Kurt Guggenheim\n\nDie frühen Jahre von Kurt Guggenheim.\nSein
 e Kindheit und Jugend in Zürich\, das Erlebnis des 1. Weltkriegs und des 
 Generalstreiks und mittendrin die zauberhaft poetische Liebesgeschichte\, 
 die den jungen Kaufmann mit der Maturandin Esther verbindet.\nLesung mit K
 laus Henner Russius\n\nQuartier-Kultur-Kreis 6 &amp\; verein alles in alle
 m: ein Zusammenspiel\n\nTextzusammenstellung: Peter Brunner\, Verein alles
  in allem https://peter-brunner-projekte.ch/\n\nKollekte\n\nLiteratur: Kur
 t Guggenheim: «Die frühen Jahre» / «Salz des Meeres\, Salz der Tränen
 ». Mit einem biografischen Nachwort neu herausgegeben von Charles Linsmay
 er. Guggenheim\, Werke\, Band 1\, Huber 1988\, zuletzt 1999. 406 S.\, ISBN
  3-7193-0997-5
ATTACH;FMTTYPE=image/jpeg:https://www.qkk6.ch/wp-content/uploads/Kurt-Gugg
 enheim_Eva-Hug_beschr-e1704967308713.jpg
CATEGORIES:Lesung
LOCATION:Röslischüür\, Röslistrasse 9\, Zürich\, 8006\, Schweiz
GEO:47.388508;8.541154
X-APPLE-STRUCTURED-LOCATION;VALUE=URI;X-ADDRESS=Röslistrasse 9\, Zürich\,
  8006\, Schweiz;X-APPLE-RADIUS=100;X-TITLE=Röslischüür:geo:47.388508,8.
 541154
END:VEVENT
BEGIN:VTIMEZONE
TZID:Europe/Zurich
X-LIC-LOCATION:Europe/Zurich
BEGIN:DAYLIGHT
DTSTART:20240331T030000
TZOFFSETFROM:+0100
TZOFFSETTO:+0200
TZNAME:CEST
END:DAYLIGHT
END:VTIMEZONE
END:VCALENDAR