BEGIN:VCALENDAR
VERSION:2.0
PRODID:-//wp-events-plugin.com//7.2.3.1//EN
TZID:Europe/Zurich
X-WR-TIMEZONE:Europe/Zurich
BEGIN:VEVENT
UID:209@qkk6.ch
DTSTART;TZID=Europe/Zurich:20240318T200000
DTEND;TZID=Europe/Zurich:20240318T200000
DTSTAMP:20231215T071316Z
URL:https://www.qkk6.ch/events/2024/03/18/stummfilm-vertont-von-karin-weis
 sberg/
SUMMARY:Stummfilm: Bett und Sofa
DESCRIPTION:Stummfilm: Bett und Sofa\n\nKlavierbegleitung:&nbsp\; Karin Wei
 ssberg\n\nLjuda und ihr Mann Kolja leben in einer winzigen Moskauer Wohnun
 g. Als Wolodja\, ein alte Freund Koljas\, in der Stadt auftaucht\, zieht d
 ieser kurzfristig bei dem jungen Ehepaar ein. Während eines auswärtigen 
 Arbeitseinsatzes von Kolja kommen sich Ljuda und Wolodja näher und stürz
 en sich in eine Affäre.\nAls Kolja davon erfährt\, tobt er vor Wut\, fin
 det sich aber schnell damit ab und nimmt fortan Wolodjas Platz auf der Cou
 ch ein.\nDie attraktive Ljuda findet sich nunmehr in einer Dreiecksbeziehu
 ng wieder\, bis sie plötzlich schwanger ist. Doch während die beiden Mä
 nner damit hadern\, was nun zu tun ist\, trifft Ljuda eine eigene Entschei
 dung...\n\nBett und Sofa. Entstehungsjahr: 1927. Autor: Abram Room. Darste
 ller/in: Ljudmila Semjonova\, Nikolai Balatov\, Vladimir Fogel. Dauer: 90 
 Minuten\n\nEintritt frei\, Kollekte.&nbsp\; Reservationen 044 361 80 51 ti
 ckets@theater-rigiblick.ch\n
ATTACH;FMTTYPE=image/jpeg:https://www.qkk6.ch/wp-content/uploads/IMG_1042-
 2-rotated-e1701525374818.jpg
CATEGORIES:Film,Konzert
LOCATION:Theater Rigiblick\, Germaniastrasse 99\, Zürich\, 8044\, Schweiz
GEO:47.388274;8.553456
X-APPLE-STRUCTURED-LOCATION;VALUE=URI;X-ADDRESS=Germaniastrasse 99\, Züric
 h\, 8044\, Schweiz;X-APPLE-RADIUS=100;X-TITLE=Theater Rigiblick:geo:47.388
 274,8.553456
END:VEVENT
BEGIN:VTIMEZONE
TZID:Europe/Zurich
X-LIC-LOCATION:Europe/Zurich
BEGIN:STANDARD
DTSTART:20231029T020000
TZOFFSETFROM:+0200
TZOFFSETTO:+0100
TZNAME:CET
END:STANDARD
END:VTIMEZONE
END:VCALENDAR