BEGIN:VCALENDAR
VERSION:2.0
PRODID:-//wp-events-plugin.com//7.2.3.1//EN
TZID:Europe/Zurich
X-WR-TIMEZONE:Europe/Zurich
BEGIN:VEVENT
UID:204@qkk6.ch
DTSTART;TZID=Europe/Zurich:20240226T200000
DTEND;TZID=Europe/Zurich:20240226T200000
DTSTAMP:20231215T071223Z
URL:https://www.qkk6.ch/events/2024/02/26/zwischentraeume-ensemble-miroir/
SUMMARY:Zwischenträume - Ensemble Miroir
DESCRIPTION:Zwischenträume\nEin Abend über nächtliche Irrwege\n\nAnnette
  Labusch\, Stimme\nStefi Spinas\, Klavier\nwww.ensemblemiroir.ch\n\nDer gu
 te Mond\, der böse Traum\, traumhaft schönes Einschlafen und alptraumhaf
 tes Aufwachen\, herumgeisternde Vampire und Psychopathen\, bleischwerer Ti
 efschlaf und atemlose Schlaflosigkeit: Die Nacht ist ein perfekter Schaupl
 atz für Schlimmes und Schönes\, für gruselig Schauriges und wohltuend V
 erträumtes. Kein Wunder\, dass Dichter:innen und Komponist:innen seit jeh
 er auf der Suche nach Worten und Klängen waren und sind\, um die bisweile
 n diffusen Stimmungen der Nacht in hörbare Bilder zu setzen. Die beiden M
 iroir-Musikerinnen Annette Labusch (Stimme) und Stefi Spinas (Klavier) neh
 men ihr Programm „Zwischenträume“ zum Anlass\, um ihre ganz eigene Si
 chtweise auf die Nacht zu zeigen. Die Gefahr des Einnickens im Zuschauerra
 um ist dabei wohl kaum gegeben.\n\nMit Musik und Texten von G. Kreisler\, 
 Sting\, F. Hollaender\, F. Hohler\, Element of Crime\, F. Schubert\, L. Ja
 náček\, B. Britten\, M. Spolianski\, M. Kaléko u.a.\n\nEintritt: 35.-/3
 0.- Ticket Shop Theater Rigiblick https://www.theater-rigiblick.ch/&nbsp\;
 Reservationen 044 361 80 51 tickets@theater-rigiblick.ch
ATTACH;FMTTYPE=image/jpeg:https://www.qkk6.ch/wp-content/uploads/210930_En
 semble_Miroir_Jonathan_Labusch_34-scaled-e1698046859426.jpg
CATEGORIES:Konzert
LOCATION:Theater Rigiblick\, Germaniastrasse 99\, Zürich\, 8044\, Schweiz
GEO:47.388274;8.553456
X-APPLE-STRUCTURED-LOCATION;VALUE=URI;X-ADDRESS=Germaniastrasse 99\, Züric
 h\, 8044\, Schweiz;X-APPLE-RADIUS=100;X-TITLE=Theater Rigiblick:geo:47.388
 274,8.553456
END:VEVENT
BEGIN:VTIMEZONE
TZID:Europe/Zurich
X-LIC-LOCATION:Europe/Zurich
BEGIN:STANDARD
DTSTART:20231029T020000
TZOFFSETFROM:+0200
TZOFFSETTO:+0100
TZNAME:CET
END:STANDARD
END:VTIMEZONE
END:VCALENDAR