BEGIN:VCALENDAR
VERSION:2.0
PRODID:-//wp-events-plugin.com//7.2.3.1//EN
TZID:Europe/Zurich
X-WR-TIMEZONE:Europe/Zurich
BEGIN:VEVENT
UID:207@qkk6.ch
DTSTART;TZID=Europe/Zurich:20240204T170000
DTEND;TZID=Europe/Zurich:20240204T170000
DTSTAMP:20240117T213923Z
URL:https://www.qkk6.ch/events/2024/02/04/die-artisten/
SUMMARY:Ausgebucht: Blaubart: Die Artisten
DESCRIPTION:Die Artisten\nEs erwartet Sie ein erstklassiges Drei-Mann-Orche
 ster mit einer Frau\, sowie ein Plattenspieler und eine Schallplatte\, wor
 auf einige der schönsten literarischen Kabinettstücke des jungen Joseph 
 Roth (1894–1939) zu hören sind: wunderbare Geschichten\, welche vor hun
 dert Jahren geschrieben wurden und mit ihrer ungeschminkten Poesie\, ihrer
  leisen Komik\, berühren und ergreifen.\nUnd mittendrin die Artisten\, di
 e Sie sicher durch herumwirbelnde Körper\, Keulen\, Seifenblasen und unsi
 chere Zeiten geleiten.\nSie werden staunen\, wie leicht es sich mit so gro
 ssartigen Komponisten wie Mauricio Kagel\, Igor Strawinsky\, Edvard Grieg 
 und Manuela Keller jonglieren lässt!\n\nBlaubart:\nChristian Strässle&nb
 sp\;&nbsp\;&nbsp\;&nbsp\;&nbsp\;&nbsp\;&nbsp\;&nbsp\;&nbsp\;&nbsp\;&nbsp\;
 &nbsp\;&nbsp\;&nbsp\;&nbsp\;&nbsp\;&nbsp\;&nbsp\; Violine\, Bratsche\, Reg
 ie\nChris Wirth&nbsp\;&nbsp\;&nbsp\;&nbsp\;&nbsp\;&nbsp\;&nbsp\;&nbsp\;&nb
 sp\;&nbsp\;&nbsp\;&nbsp\;&nbsp\;&nbsp\;&nbsp\;&nbsp\;&nbsp\;&nbsp\;&nbsp\;
 &nbsp\;&nbsp\;&nbsp\;&nbsp\;&nbsp\;&nbsp\;&nbsp\;&nbsp\; Bassklarinette\, 
 Klarinette\, Discjockey\nManuela Keller &nbsp\;&nbsp\;&nbsp\;&nbsp\;&nbsp\
 ;&nbsp\;&nbsp\;&nbsp\;&nbsp\;&nbsp\;&nbsp\;&nbsp\;&nbsp\;&nbsp\;&nbsp\;&nb
 sp\;&nbsp\;&nbsp\;&nbsp\;&nbsp\; Klavier\, Komposition\nwww.blaubart-musik
 .ch\n\nAuf dem Plattenteller:\nJulius Griesenberg&nbsp\;&nbsp\;&nbsp\;&nbs
 p\;&nbsp\;&nbsp\;&nbsp\;&nbsp\;&nbsp\;&nbsp\;&nbsp\;&nbsp\;&nbsp\;&nbsp\;&
 nbsp\;&nbsp\;&nbsp\; Sprecher\, Conférencier\n\nPlatzzahl beschränkt\, A
 USGEBUCHT\nEintritt frei\, Kollekte
ATTACH;FMTTYPE=image/jpeg:https://www.qkk6.ch/wp-content/uploads/werbe-tex
 t-foto-834.jpg
CATEGORIES:Konzert,Lesung
LOCATION:Röslischüür\, Röslistrasse 9\, Zürich\, 8006\, Schweiz
GEO:47.388508;8.541154
X-APPLE-STRUCTURED-LOCATION;VALUE=URI;X-ADDRESS=Röslistrasse 9\, Zürich\,
  8006\, Schweiz;X-APPLE-RADIUS=100;X-TITLE=Röslischüür:geo:47.388508,8.
 541154
END:VEVENT
BEGIN:VTIMEZONE
TZID:Europe/Zurich
X-LIC-LOCATION:Europe/Zurich
BEGIN:STANDARD
DTSTART:20231029T020000
TZOFFSETFROM:+0200
TZOFFSETTO:+0100
TZNAME:CET
END:STANDARD
END:VTIMEZONE
END:VCALENDAR