BEGIN:VCALENDAR
VERSION:2.0
PRODID:-//wp-events-plugin.com//7.2.3.1//EN
TZID:Europe/Zurich
X-WR-TIMEZONE:Europe/Zurich
BEGIN:VEVENT
UID:206@qkk6.ch
DTSTART;TZID=Europe/Zurich:20240111T200000
DTEND;TZID=Europe/Zurich:20240111T200000
DTSTAMP:20240108T144522Z
URL:https://www.qkk6.ch/events/2024/01/11/victors-letze-fahrt-lesung-mit-e
 mil-zopfi/
SUMMARY:Ausgebucht: Lesung mit Emil Zopfi: Victors letzte Fahrt
DESCRIPTION:Victors letzte Fahrt\n\nAlpinist und Luftschiffer aus Leidensch
 aft. Ein Leben. Von Emil Zopfi\n\nVictor de Beauclair war ein Pionier des 
 Alpinen Skilaufs und der Ballonfahrten übers Gebirge. Er schaffte die ers
 te Überquerung der Berner Alpen im Winter und die erste Ballonfahrt über
  die Alpen vom Berner Oberland bis in die Lombardei. Für den Akademischen
  Alpen-Club Zürich organisierte er den Bau von Schutzhütten\, war Mitbeg
 ründer und Präsident des Ski-Clubs Zürich und des Ostschweizerischen Ve
 reins für Luftschifffahrt. Er leitete die ersten Skikurse für Bergführe
 r von Zermatt und für Sektionen des Schweizer Alpen-Clubs.\n\nWer war die
 ser Alpinist\, Luftschiffer und Skipionier\, in Brasilien geboren\, in Deu
 tschland und der Schweiz lebend\, dieser Mensch «von spontaner Art\, bege
 isterungsfähig und von grosser Entschlusskraft»\, wie ihn Freunde bezeic
 hnen?\n\nEmil Zopfi folgt den Spuren des atemlosen Lebens eines leidenscha
 ftlichen Menschen bis zu seinem Absturz am Matterhorn am 15. August 1929 i
 m Alter von fünfundfünfzig Jahren. Bei dem Unglück riss er seine Seilpa
 rtnerin mit in den Tod\, die junge lebensfrohe Irmgard Schiess aus Freibur
 g im Breisgau. Waren der Junggeselle und die Tochter aus gutem Hause ein P
 aar? Auf dem Bergsteigerfriedhof von Zermatt haben sie nebeneinander ihre 
 letzte Ruhestätte gefunden. Auch Irmgards Lebensspur ist Teil der im Stil
  einer Doku-Fiction verfassten Biografie.\n\nPlatzzahl beschränkt\, ausge
 bucht!\nEintritt frei\, Kollekte
ATTACH;FMTTYPE=image/jpeg:https://www.qkk6.ch/wp-content/uploads/Emil_Zopf
 i1a-scaled-e1689516583636.jpg
CATEGORIES:Lesung
LOCATION:Röslischüür\, Röslistrasse 9\, Zürich\, 8006\, Schweiz
GEO:47.388508;8.541154
X-APPLE-STRUCTURED-LOCATION;VALUE=URI;X-ADDRESS=Röslistrasse 9\, Zürich\,
  8006\, Schweiz;X-APPLE-RADIUS=100;X-TITLE=Röslischüür:geo:47.388508,8.
 541154
END:VEVENT
BEGIN:VTIMEZONE
TZID:Europe/Zurich
X-LIC-LOCATION:Europe/Zurich
BEGIN:STANDARD
DTSTART:20231029T020000
TZOFFSETFROM:+0200
TZOFFSETTO:+0100
TZNAME:CET
END:STANDARD
END:VTIMEZONE
END:VCALENDAR