BEGIN:VCALENDAR
VERSION:2.0
PRODID:-//wp-events-plugin.com//7.2.3.1//EN
TZID:Europe/Zurich
X-WR-TIMEZONE:Europe/Zurich
BEGIN:VEVENT
UID:194@qkk6.ch
DTSTART;TZID=Europe/Zurich:20231207T200000
DTEND;TZID=Europe/Zurich:20231207T200000
DTSTAMP:20231106T111015Z
URL:https://www.qkk6.ch/events/2023/12/07/peter-landis-chris-wiesendanger/
SUMMARY:Peter Landis und Chris Wiesendanger
DESCRIPTION:Peter Landis und Chris Wiesendanger\nDie 2 Musiker spielen seit
  6 Jahren im Duo. Im Zentrum stehen die vielen Kompositionen von Peter Lan
 dis\, welche er seit Jahren für das Duo schreibt. Bei jedem Konzert spiel
 en Peter Landis und Chris Wiesendanger neue\, die neusten Stücke\, darum 
 ist jedes Konzert eine einmalige Möglichkeit\, das grossartige kompositor
 ische Schaffen von Peter Landis zu hören und dabei den beiden Musikern\, 
 in ihrem Prozess Komposition und Improvisation aus dem Moment heraus zu ve
 rbinden\, zu erleben. Den Kompositionen werden freie Improvisationen gegen
 übergestellt - dabei sind sowohl Stücke wie auch Improvisationen immer w
 ieder Ausgangsorte für Entwicklungen und Ideen. Das Duo besticht durch ei
 ne eigenständige Klang- und Improvisationssprache und macht jedes Konzert
  zum einzigartigen Erlebnis.\nAm Konzert erhältlich ist auch das Album (3
  CDs) „Change in Colour“ (unit records).\n\nPeter Landis&nbsp\;&nbsp\;
 &nbsp\;&nbsp\;&nbsp\;&nbsp\;&nbsp\;&nbsp\;&nbsp\;&nbsp\;&nbsp\;&nbsp\;&nbs
 p\;&nbsp\;&nbsp\;&nbsp\;&nbsp\;&nbsp\; saxophones\, compositions\nChris Wi
 esendanger&nbsp\;&nbsp\;&nbsp\;&nbsp\;&nbsp\; piano\n\nwww.peterlandis.ch\
 nwww.wiesendangermusic.ch\n\nPlatzzahl beschränkt!&nbsp\; Anmeldungen bis
  6.12.23 E-Mail\nEintritt frei\, Kollekte\n\n&nbsp\;
ATTACH;FMTTYPE=image/jpeg:https://www.qkk6.ch/wp-content/uploads/Chris-sca
 led-e1688043059162.jpg
CATEGORIES:Konzert
LOCATION:Röslischüür\, Röslistrasse 9\, Zürich\, 8006\, Schweiz
GEO:47.388508;8.541154
X-APPLE-STRUCTURED-LOCATION;VALUE=URI;X-ADDRESS=Röslistrasse 9\, Zürich\,
  8006\, Schweiz;X-APPLE-RADIUS=100;X-TITLE=Röslischüür:geo:47.388508,8.
 541154
END:VEVENT
BEGIN:VTIMEZONE
TZID:Europe/Zurich
X-LIC-LOCATION:Europe/Zurich
BEGIN:STANDARD
DTSTART:20231029T020000
TZOFFSETFROM:+0200
TZOFFSETTO:+0100
TZNAME:CET
END:STANDARD
END:VTIMEZONE
END:VCALENDAR