BEGIN:VCALENDAR
VERSION:2.0
PRODID:-//wp-events-plugin.com//7.2.3.1//EN
TZID:Europe/Zurich
X-WR-TIMEZONE:Europe/Zurich
BEGIN:VEVENT
UID:195@qkk6.ch
DTSTART;TZID=Europe/Zurich:20231028T200000
DTEND;TZID=Europe/Zurich:20231028T200000
DTSTAMP:20231028T111558Z
URL:https://www.qkk6.ch/events/2023/10/28/zuerich-liest-tony-ettlin-cuntra
 banda/
SUMMARY:Ausgebucht! Zürich Liest: Tony Ettlin: Cuntrabanda
DESCRIPTION:\nCuntrabanda: Schmugglergeschichten aus dem Münstertal und an
 dere Geschichten\nSeit es Grenzen gibt\, wird geschmuggelt. Im Münstertal
 \, wie in allen Bündner Südtälern\, im Tessin und im Wallis\, trugen di
 e Schmuggler in den sechziger Jahren des letzten Jahrhunderts tonnenweise 
 Zigaretten\, Kaffee und andere Güter auf abenteuerlichen Wegen über die 
 Grenze nach Italien.\nTony Ettlin präsentiert sein Buch «Cuntrabanda –
  Schmugglergeschichten aus dem Münstertal»\, illustriert mit Fotos vom S
 chmuggelgeschäft von damals und liest Geschichten\, zu denen er sich durc
 h die Erzählungen von Zeitzeugen inspirieren liess.\n\nIm zweiten Teil li
 est der Autor Kurz- und Kürzestgeschichten und spielt mit Wort und Text.\
 nAirCollage geben mit launigen Eigenkompositionen der Lesung den musikalis
 chen Rahmen.\n\nEin stimmungsvoller Abend mit feinem Humor ist angesagt.\n
 \nTony Ettlin&nbsp\;&nbsp\;&nbsp\;&nbsp\;&nbsp\;&nbsp\;&nbsp\;&nbsp\;&nbsp
 \;&nbsp\; Wort\, Konzept\nMarkus Tinner&nbsp\;&nbsp\;&nbsp\;&nbsp\; Klarin
 ette\nMarcel Roth&nbsp\;&nbsp\;&nbsp\;&nbsp\;&nbsp\;&nbsp\;&nbsp\;&nbsp\; 
 Akkordeon\n\nEintritt frei\, Kollekte&nbsp\;&nbsp\; Anmeldungen bis 25.10.
 23 E-Mail
ATTACH;FMTTYPE=image/jpeg:https://www.qkk6.ch/wp-content/uploads/27A8875-2
 -Trio-Zuerich-west-scaled-e1686382958936.jpg
CATEGORIES:Konzert,Lesung
LOCATION:Röslischüür\, Röslistrasse 9\, Zürich\, 8006\, Schweiz
GEO:47.388508;8.541154
X-APPLE-STRUCTURED-LOCATION;VALUE=URI;X-ADDRESS=Röslistrasse 9\, Zürich\,
  8006\, Schweiz;X-APPLE-RADIUS=100;X-TITLE=Röslischüür:geo:47.388508,8.
 541154
END:VEVENT
BEGIN:VTIMEZONE
TZID:Europe/Zurich
X-LIC-LOCATION:Europe/Zurich
BEGIN:DAYLIGHT
DTSTART:20230326T030000
TZOFFSETFROM:+0100
TZOFFSETTO:+0200
TZNAME:CEST
END:DAYLIGHT
END:VTIMEZONE
END:VCALENDAR