BEGIN:VCALENDAR
VERSION:2.0
PRODID:-//wp-events-plugin.com//7.2.3.1//EN
TZID:Europe/Zurich
X-WR-TIMEZONE:Europe/Zurich
BEGIN:VEVENT
UID:200@qkk6.ch
DTSTART;TZID=Europe/Zurich:20231027T200000
DTEND;TZID=Europe/Zurich:20231027T200000
DTSTAMP:20230629T125441Z
URL:https://www.qkk6.ch/events/2023/10/27/zuerich-liest-peter-k-wehrli/
SUMMARY:Zürich Liest: Peter K. Wehrli: 55 Jahre „Katalog von Allem“
DESCRIPTION:\nPeter K. Wehrli: 55 Jahre „Katalog von Allem“\n\nWeil Pet
 er K. Wehrli 1968 auf einer Reise im Orientexpress seine Kamera vergessen 
 hatte\, beschloss er\, alles\, was er fotografiert hätte\, zu schreiben. 
 Und er schreibt diese Fotos bis heute weiter. Gerade jetzt ist das 3027. g
 eschriebene Bild entstanden: Eine faszinierende Schule der Wahrnehmung!\n\
 nEintritt frei\, Kollekte&nbsp\;&nbsp\; Anmeldungen bis 25.10.23 E-Mail
ATTACH;FMTTYPE=image/jpeg:https://www.qkk6.ch/wp-content/uploads/pkw-e1656
 667358546.jpg
CATEGORIES:Lesung
LOCATION:Röslischüür\, Röslistrasse 9\, Zürich\, 8006\, Schweiz
GEO:47.388508;8.541154
X-APPLE-STRUCTURED-LOCATION;VALUE=URI;X-ADDRESS=Röslistrasse 9\, Zürich\,
  8006\, Schweiz;X-APPLE-RADIUS=100;X-TITLE=Röslischüür:geo:47.388508,8.
 541154
END:VEVENT
BEGIN:VTIMEZONE
TZID:Europe/Zurich
X-LIC-LOCATION:Europe/Zurich
BEGIN:DAYLIGHT
DTSTART:20230326T030000
TZOFFSETFROM:+0100
TZOFFSETTO:+0200
TZNAME:CEST
END:DAYLIGHT
END:VTIMEZONE
END:VCALENDAR