BEGIN:VCALENDAR
VERSION:2.0
PRODID:-//wp-events-plugin.com//7.2.3.1//EN
TZID:Europe/Zurich
X-WR-TIMEZONE:Europe/Zurich
BEGIN:VEVENT
UID:191@qkk6.ch
DTSTART;TZID=Europe/Zurich:20231023T200000
DTEND;TZID=Europe/Zurich:20231023T200000
DTSTAMP:20230530T143623Z
URL:https://www.qkk6.ch/events/2023/10/23/the-jazz-bug/
SUMMARY:The Jazz Bug
DESCRIPTION:The Jazz Bug feat. Howard Alden (USA)\nIn dieser neuen Band wer
 den Tradition und Moderne vereint\; Howard Alden zählt zu den besten trad
 itionellen Swinggitarristen weltweit und trifft in dieser Band auf seine j
 üngeren Jazzkollegen\, welche mit&nbsp\;modernem Straight-Ahead-Jazz gros
 s geworden sind.\nKultureller Austausch auf höchster Ebene zwischen Europ
 a und Amerika.\nIn der Tradition verwurzelt und mit Ausblick nach der Mode
 rne macht sich die Band auf die Suche nach ihrer eigenen Stimme\, mit ause
 rwählten Standards aus dem Great American Songbook sowie Eigenkomposition
 en.\n\nHoward Alden (USA)\, guitar\nSimon Wyrsch (CH)\, clarinet\nJoel Loc
 her (DE)\, bass\nFelix Schrack (DE)\, drums\n\nEintritt frei\, Kollekte&nb
 sp\;&nbsp\; Anmeldungen bis 21.10.23 E-Mail\n
ATTACH;FMTTYPE=image/jpeg:https://www.qkk6.ch/wp-content/uploads/jazz-e168
 5457311647.jpg
CATEGORIES:Konzert
LOCATION:Röslischüür\, Röslistrasse 9\, Zürich\, 8006\, Schweiz
GEO:47.388508;8.541154
X-APPLE-STRUCTURED-LOCATION;VALUE=URI;X-ADDRESS=Röslistrasse 9\, Zürich\,
  8006\, Schweiz;X-APPLE-RADIUS=100;X-TITLE=Röslischüür:geo:47.388508,8.
 541154
END:VEVENT
BEGIN:VTIMEZONE
TZID:Europe/Zurich
X-LIC-LOCATION:Europe/Zurich
BEGIN:DAYLIGHT
DTSTART:20230326T030000
TZOFFSETFROM:+0100
TZOFFSETTO:+0200
TZNAME:CEST
END:DAYLIGHT
END:VTIMEZONE
END:VCALENDAR