BEGIN:VCALENDAR
VERSION:2.0
PRODID:-//wp-events-plugin.com//7.2.3.1//EN
TZID:Europe/Zurich
X-WR-TIMEZONE:Europe/Zurich
BEGIN:VEVENT
UID:192@qkk6.ch
DTSTART;TZID=Europe/Zurich:20231002T200000
DTEND;TZID=Europe/Zurich:20231002T200000
DTSTAMP:20230701T080709Z
URL:https://www.qkk6.ch/events/2023/10/02/gottfried-keller-szenen-aus-kind
 heit-und-jugend/
SUMMARY:Gottfried Keller - Szenen aus Kindheit und Jugend
DESCRIPTION:Gottfried Keller - Szenen aus Kindheit und Jugend\nMit Poesie u
 nd scharfsinniger Ironie\, voll psychologischer Einfühlung und oft mit bi
 tterer Qual schreibt sich der junge Gottfried Keller mit dem 'Grünen Hein
 rich' seine eigene Geschichte von der Seele und erschafft damit ein Stück
  Weltliteratur.\n\nIn musikalisch verbundenen Erzählstationen lässt Vera
  Bauer die Kindheit und Jugend dieses hochsensiblen\, klugen und dabei oft
  scheuen und ungeschickten jungen Menschen aufleben\, welcher mit grausame
 r Klarsicht seine eigenen Schwächen erkennt und doch tief in sich spürt\
 , wozu er eigentlich fähig wäre...\n\nFarbige\, phantasievolle Musik fü
 r Violine und Cello widerspiegelt die poetische Intensität dieses mit fei
 nem Humor erzählten\, autobiografisch inspirierten Lebenspanoramas von Go
 ttfried Keller. Flyer\n\nVera Bauer &nbsp\; &nbsp\;&nbsp\;&nbsp\;&nbsp\;&n
 bsp\;&nbsp\;&nbsp\;&nbsp\;&nbsp\;&nbsp\;&nbsp\;&nbsp\;&nbsp\; Wort und Cel
 lo\, Konzeption&nbsp\;&nbsp\;&nbsp\;&nbsp\;&nbsp\;\nDavid Goldzycher &nbsp
 \;&nbsp\; &nbsp\; Violine\n\nEintritt frei\, Kollekte&nbsp\;&nbsp\; Anmeld
 ungen bis 30.9.23 E-Mail\n
ATTACH;FMTTYPE=image/jpeg:https://www.qkk6.ch/wp-content/uploads/Gottfried
 -KellerDavidVera-e1688198783968.png
CATEGORIES:Konzert,Lesung
LOCATION:Röslischüür\, Röslistrasse 9\, Zürich\, 8006\, Schweiz
GEO:47.388508;8.541154
X-APPLE-STRUCTURED-LOCATION;VALUE=URI;X-ADDRESS=Röslistrasse 9\, Zürich\,
  8006\, Schweiz;X-APPLE-RADIUS=100;X-TITLE=Röslischüür:geo:47.388508,8.
 541154
END:VEVENT
BEGIN:VTIMEZONE
TZID:Europe/Zurich
X-LIC-LOCATION:Europe/Zurich
BEGIN:DAYLIGHT
DTSTART:20230326T030000
TZOFFSETFROM:+0100
TZOFFSETTO:+0200
TZNAME:CEST
END:DAYLIGHT
END:VTIMEZONE
END:VCALENDAR