BEGIN:VCALENDAR
VERSION:2.0
PRODID:-//wp-events-plugin.com//7.2.3.1//EN
TZID:Europe/Zurich
X-WR-TIMEZONE:Europe/Zurich
BEGIN:VEVENT
UID:201@qkk6.ch
DTSTART;TZID=Europe/Zurich:20230912T200000
DTEND;TZID=Europe/Zurich:20230912T200000
DTSTAMP:20230913T105256Z
URL:https://www.qkk6.ch/events/2023/09/12/duo-zanforlin-pellegrini/
SUMMARY:Duo Zanforlin - Pellegrini
DESCRIPTION:Duo Zanforlin - Pellegrini\nSilvia und Emanuele lernen sich in 
 den Gängen des Conservatorio della Svizzera Italiana in Lugano kennen - n
 och als Kinder\, aber bereits begeistert von der Musik und dem gemeinsamen
  Musizieren. Ihre Zusammenarbeit beginnt jedoch erst einige Jahre später\
 , im Jahr 2018\, als sie sich zufällig an der Zürcher Hochschule der Kü
 nste in Zürich\, wo sie ihr Studium absolvierten\, wiederbegegnen. Daraus
  entsteht das Versprechen bzw. die Idee\, gemeinsam zu spielen.\nAngetrieb
 en von viel Leidenschaft und Engagement\, erhielten sie viele wichtige Imp
 ulse von ihren jeweiligen Professoren an der ZHdK.\n\nSilvia Pellegrini &n
 bsp\;&nbsp\;&nbsp\;&nbsp\;&nbsp\;&nbsp\;&nbsp\;&nbsp\;&nbsp\;&nbsp\;&nbsp\
 ;&nbsp\;&nbsp\;&nbsp\; Klavier\nEmanuele Zanforlin&nbsp\; &nbsp\;&nbsp\;&n
 bsp\;&nbsp\;&nbsp\; Geige\n\nDas Duo spielt ein einstündiges\, unterhalts
 ames klassisches Repertoire:\nW.A. Mozart\, Violinsonate in e-moll KV304\n
 L.v. Beethoven\, Violinsonate in F-Dur Nr. 5 Op.24\n\n&nbsp\;\n\n&nbsp\;\n
 \nEintritt frei\, Kollekte&nbsp\;&nbsp\; Anmeldungen bis 10.9.23 E-Mail
ATTACH;FMTTYPE=image/jpeg:https://www.qkk6.ch/wp-content/uploads/Bild2-e16
 88731154458.png
CATEGORIES:Konzert
LOCATION:Röslischüür\, Röslistrasse 9\, Zürich\, 8006\, Schweiz
GEO:47.388508;8.541154
X-APPLE-STRUCTURED-LOCATION;VALUE=URI;X-ADDRESS=Röslistrasse 9\, Zürich\,
  8006\, Schweiz;X-APPLE-RADIUS=100;X-TITLE=Röslischüür:geo:47.388508,8.
 541154
END:VEVENT
BEGIN:VTIMEZONE
TZID:Europe/Zurich
X-LIC-LOCATION:Europe/Zurich
BEGIN:DAYLIGHT
DTSTART:20230326T030000
TZOFFSETFROM:+0100
TZOFFSETTO:+0200
TZNAME:CEST
END:DAYLIGHT
END:VTIMEZONE
END:VCALENDAR