BEGIN:VCALENDAR
VERSION:2.0
PRODID:-//wp-events-plugin.com//7.2.3.1//EN
TZID:Europe/Zurich
X-WR-TIMEZONE:Europe/Zurich
BEGIN:VEVENT
UID:190@qkk6.ch
DTSTART;TZID=Europe/Zurich:20230614T200000
DTEND;TZID=Europe/Zurich:20230614T200000
DTSTAMP:20230427T071553Z
URL:https://www.qkk6.ch/events/2023/06/14/sommer-ein-konzert-mit-luftig-le
 ichten-liedern/
SUMMARY:Sommer!  Ein Konzert mit luftig-leichten Liedern
DESCRIPTION:Sommer! \nEin Konzert mit luftig-leichten Liedern \n\nIn diesem
  leichtfüssigen Programm feiert das Duo Ryser / Callejas die warme Jahres
 zeit mit musikalischen Neckereien und Liebeleien. In den romantischen Komp
 ositionen von Felix und Fanny Mendelssohn\, Johannes Brahms und Robert Sch
 umann flirrt die Hitze und jubiliert der sommerliche Übermut genauso wie 
 in den barocken Arien von Henry Purcell. Ein Abend zum Schmunzeln\, Fusswi
 ppen und Augenzwinkern.\n\nIna Callejas&nbsp\;&nbsp\;&nbsp\;&nbsp\;&nbsp\;
 &nbsp\; Akkordeon\nSimona Ryser&nbsp\;&nbsp\; Sopran\n\nEintritt frei\, Ko
 llekte&nbsp\;&nbsp\; Anmeldungen bis 12.6. E-Mail\n
ATTACH;FMTTYPE=image/jpeg:https://www.qkk6.ch/wp-content/uploads/ryser_ine
 sneu-e1626343982488.png
CATEGORIES:Konzert
LOCATION:Röslischüür\, Röslistrasse 9\, Zürich\, 8006\, Schweiz
GEO:47.388508;8.541154
X-APPLE-STRUCTURED-LOCATION;VALUE=URI;X-ADDRESS=Röslistrasse 9\, Zürich\,
  8006\, Schweiz;X-APPLE-RADIUS=100;X-TITLE=Röslischüür:geo:47.388508,8.
 541154
END:VEVENT
BEGIN:VTIMEZONE
TZID:Europe/Zurich
X-LIC-LOCATION:Europe/Zurich
BEGIN:DAYLIGHT
DTSTART:20230326T030000
TZOFFSETFROM:+0100
TZOFFSETTO:+0200
TZNAME:CEST
END:DAYLIGHT
END:VTIMEZONE
END:VCALENDAR