BEGIN:VCALENDAR
VERSION:2.0
PRODID:-//wp-events-plugin.com//7.2.3.1//EN
TZID:Europe/Zurich
X-WR-TIMEZONE:Europe/Zurich
BEGIN:VEVENT
UID:189@qkk6.ch
DTSTART;TZID=Europe/Zurich:20230522T200000
DTEND;TZID=Europe/Zurich:20230522T200000
DTSTAMP:20230201T075103Z
URL:https://www.qkk6.ch/events/2023/05/22/zivilstand-musiker/
SUMMARY:Zivilstand: Musiker 
DESCRIPTION:Zivilstand: Musiker&nbsp\; \nEine musikalisch-literarische Homm
 age an Irma und Alexander Schaichet\, ein aussergewöhnliches Künstlerpaa
 r\, das ab den 1920er Jahren das Musikleben von Zürich prägte.\n1920 gr
 ündete der Geiger und Bratschist Alexander Schaichet\, ein Emigrant aus O
 dessa\, in Zürich das erste Kammerorchester der Schweiz . „Eine Kühnhe
 it“ nannte das Stadtpräsident Landolt 1962 anlässlich der Verleihung d
 er Hans Georg Naegeli-Medaille. Das war es gleich mehrfach. Alexander Scha
 ichet führte nicht nur viele neue Schweizer Komponisten auf\, sondern mus
 ste dabei ohne Subventionen auskommen. Dass sein „kühnes“ Unternehmen
  ein Erfolg wurde\,&nbsp\; ist auch dem engen musikalischen Austausch mit 
 seiner Frau\, der ungarischen Pianistin Irma Schaichet-Löwinger\, zu verd
 anken.\nDie szenisch-musikalische Lesung lässt den aussergewöhnlichen Le
 bensweg dieses Musikers durch Originaldokumente – Urkunden\, Briefe\, Ta
 gebücher\, Berichte und Kritiken – und selten gehörte musikalische Wer
 ke erlebbar werden.\n\nMitwirkende\n\nText und Regie&nbsp\;&nbsp\;&nbsp\;&
 nbsp\;&nbsp\;&nbsp\;&nbsp\;&nbsp\;&nbsp\;&nbsp\;&nbsp\;&nbsp\;&nbsp\;&nbsp
 \;&nbsp\;&nbsp\;&nbsp\;&nbsp\;&nbsp\;&nbsp\;&nbsp\;&nbsp\;&nbsp\;&nbsp\;&n
 bsp\;&nbsp\;&nbsp\;&nbsp\;&nbsp\;&nbsp\;&nbsp\; Martin Kreutzberg\nMusikko
 nzept&nbsp\;&nbsp\;&nbsp\;&nbsp\;&nbsp\;&nbsp\;&nbsp\;&nbsp\;&nbsp\;&nbsp\
 ;&nbsp\;&nbsp\;&nbsp\;&nbsp\;&nbsp\;&nbsp\;&nbsp\;&nbsp\;&nbsp\;&nbsp\;&nb
 sp\;&nbsp\;&nbsp\;&nbsp\;&nbsp\;&nbsp\;&nbsp\;&nbsp\;&nbsp\;&nbsp\;&nbsp\;
 &nbsp\; Andrea Wiesli\nSprecherinnen und Sprecher &nbsp\; &nbsp\; &nbsp\; 
 &nbsp\;&nbsp\; Laura Lienhard\, Graziella Rossi\, Helmut Vogel\nMusik&nbsp
 \;&nbsp\;&nbsp\;&nbsp\;&nbsp\;&nbsp\;&nbsp\;&nbsp\;&nbsp\;&nbsp\;&nbsp\;&n
 bsp\;&nbsp\;&nbsp\;&nbsp\;&nbsp\;&nbsp\;&nbsp\;&nbsp\;&nbsp\;&nbsp\;&nbsp\
 ;&nbsp\;&nbsp\;&nbsp\;&nbsp\;&nbsp\;&nbsp\;&nbsp\;&nbsp\;&nbsp\;&nbsp\;&nb
 sp\;&nbsp\;&nbsp\;&nbsp\;&nbsp\;&nbsp\;&nbsp\;&nbsp\;&nbsp\;&nbsp\;&nbsp\;
 &nbsp\;&nbsp\; Jonas Kreienbühl (Violoncello)\, Mirjam Tschopp (Violine\,
  Viola)\, Andrea Wiesli (Klavier)\n\nEintritt: 35.-/30.- Reservation 044 3
 61 80 51 oder tickets@theater-rigiblick.ch
ATTACH;FMTTYPE=image/jpeg:https://www.qkk6.ch/wp-content/uploads/Foto-Zivi
 lstand-2-e1675237821430.jpg
CATEGORIES:Konzert,Lesung
LOCATION:Theater Rigiblick\, Germaniastrasse 99\, Zürich\, 8044\, Schweiz
GEO:47.388274;8.553456
X-APPLE-STRUCTURED-LOCATION;VALUE=URI;X-ADDRESS=Germaniastrasse 99\, Züric
 h\, 8044\, Schweiz;X-APPLE-RADIUS=100;X-TITLE=Theater Rigiblick:geo:47.388
 274,8.553456
END:VEVENT
BEGIN:VTIMEZONE
TZID:Europe/Zurich
X-LIC-LOCATION:Europe/Zurich
BEGIN:DAYLIGHT
DTSTART:20230326T030000
TZOFFSETFROM:+0100
TZOFFSETTO:+0200
TZNAME:CEST
END:DAYLIGHT
END:VTIMEZONE
END:VCALENDAR