BEGIN:VCALENDAR
VERSION:2.0
PRODID:-//wp-events-plugin.com//7.2.3.1//EN
TZID:Europe/Zurich
X-WR-TIMEZONE:Europe/Zurich
BEGIN:VEVENT
UID:183@qkk6.ch
DTSTART;TZID=Europe/Zurich:20230424T200000
DTEND;TZID=Europe/Zurich:20230424T200000
DTSTAMP:20230205T091845Z
URL:https://www.qkk6.ch/events/2023/04/24/hansjoerg-schertenleib-liest-aus
 -seinem-neuen-buch-im-schilf/
SUMMARY:Hansjörg Schertenleib liest: Im Schilf
DESCRIPTION:Im Schilf\nDie Angelhütte am See hat Viktor von seinem Schwieg
 ervater übernommen. Hier haben Max und er Tage und Nächte der Seligkeit 
 verbracht\, halb verwildert\, am Lagerfeuer\, im Glück über den guten Fa
 ng. Als Viktor eines Morgens das Ruderboot aufs Wasser hinauslenkt\, errei
 cht ihn ein Anruf: Man teilt ihm mit\, dass sein Vater gestorben ist\, auf
  dem Amtsweg. Dieser Vater\, der ihn ein Leben lang gegen eine Mauer der A
 blehnung rennen ließ\, löst nur wenig gute Erinnerungen aus\, und eigent
 lich hat Viktor längst Max an seine Stelle gesetzt. So kommt ihm jetzt au
 ch dieser andere Abschied in den Sinn\, die Fahrt mit seiner Ex-Frau nach 
 Irland\, Max’ leerer Blick. Dessen letzter Wunsch\, die Asche an einem L
 ieblingsstrand zu verstreuen\, bescherte ihnen dann eine weitere\, absurde
  Reise – mitsamt Urne die Küste entlang. Doch auch der echte Vater\, de
 r wenig über sich sprach\, ruft nach einer Geschichte. Viktor entschließ
 t sich\, ihm eine zu geben.Geschickt verbindet Hansjörg Schertenleib in s
 einem neuen\, sehr persönlichen Buch Momente des Angelglücks am Sihlsee 
 mit einem Roadtrip durch Irland und erhellt parallel dazu das Schicksal ei
 nes Verdingbubs\, der sein ungeliebter Vater war. Ein packender Roman um B
 eschädigung\, Scheitern und Selbstbehauptung – temporeich und stringent
  erzählt.\n\nFreier Eintritt\, Kollekte\, Anmeldungen bis 23.4.23 an E-Ma
 il&nbsp\; Platzzahl beschränkt!
ATTACH;FMTTYPE=image/jpeg:https://www.qkk6.ch/wp-content/uploads/Bild5-e16
 75588581457.png
CATEGORIES:Lesung
LOCATION:Röslischüür\, Röslistrasse 9\, Zürich\, 8006\, Schweiz
GEO:47.388508;8.541154
X-APPLE-STRUCTURED-LOCATION;VALUE=URI;X-ADDRESS=Röslistrasse 9\, Zürich\,
  8006\, Schweiz;X-APPLE-RADIUS=100;X-TITLE=Röslischüür:geo:47.388508,8.
 541154
END:VEVENT
BEGIN:VTIMEZONE
TZID:Europe/Zurich
X-LIC-LOCATION:Europe/Zurich
BEGIN:DAYLIGHT
DTSTART:20230326T030000
TZOFFSETFROM:+0100
TZOFFSETTO:+0200
TZNAME:CEST
END:DAYLIGHT
END:VTIMEZONE
END:VCALENDAR