BEGIN:VCALENDAR
VERSION:2.0
PRODID:-//wp-events-plugin.com//7.2.3.1//EN
TZID:Europe/Zurich
X-WR-TIMEZONE:Europe/Zurich
BEGIN:VEVENT
UID:188@qkk6.ch
DTSTART;TZID=Europe/Zurich:20230403T200000
DTEND;TZID=Europe/Zurich:20230403T200000
DTSTAMP:20230120T083017Z
URL:https://www.qkk6.ch/events/2023/04/03/gadjolinos-gypsy-swing-quartett/
SUMMARY:Gadjolinos Gypsy Swing Quartett
DESCRIPTION:Gadjolinos Gypsy Swing Quartett \nDas Gadjolinos Gypsy Swing Qu
 artett aus Zürich spielt Jazz im Stil des legendären Hot Club Quintette 
 de France von Django Reinhardt und Stéphane Grappelli. Dazu gehören lüp
 fige UpTempo Swings\, Boléros\, Walzer\, geschmeidige Balladen sowie Gyps
 y Bossa’s. Um die Zuhörer noch mehr in das Gefühl der damaligen Zeit h
 ineinzuversetzen\, tragen die Gadjolinos auch die typischen Kleider der Sw
 ing Ära.\nDa auch die Klarinette im Gypsy Swing sehr typisch und beliebt 
 ist\, hat das Quartett den Klarinettisten Simon Wyrsch als Special Guest e
 ingeladen.\n\nMarc Luisoni - Geige\nSimon Wyrsch - Klarinette\nChristian R
 uh - Gitarre\nDani Zürcher - Gitarre\nAugustin Maissen - Kontrabass\n\nww
 w.gadjolinos.ch\n\nFreier Eintritt\, Kollekte
ATTACH;FMTTYPE=image/jpeg:https://www.qkk6.ch/wp-content/uploads/Flyer-Fro
 nt-NEU-2020@4x-e1674203109678.png
CATEGORIES:Konzert
LOCATION:Röslischüür\, Röslistrasse 9\, Zürich\, 8006\, Schweiz
GEO:47.388508;8.541154
X-APPLE-STRUCTURED-LOCATION;VALUE=URI;X-ADDRESS=Röslistrasse 9\, Zürich\,
  8006\, Schweiz;X-APPLE-RADIUS=100;X-TITLE=Röslischüür:geo:47.388508,8.
 541154
END:VEVENT
BEGIN:VTIMEZONE
TZID:Europe/Zurich
X-LIC-LOCATION:Europe/Zurich
BEGIN:DAYLIGHT
DTSTART:20230326T030000
TZOFFSETFROM:+0100
TZOFFSETTO:+0200
TZNAME:CEST
END:DAYLIGHT
END:VTIMEZONE
END:VCALENDAR