BEGIN:VCALENDAR
VERSION:2.0
PRODID:-//wp-events-plugin.com//7.2.3.1//EN
TZID:Europe/Zurich
X-WR-TIMEZONE:Europe/Zurich
BEGIN:VEVENT
UID:185@qkk6.ch
DTSTART;TZID=Europe/Zurich:20230323T200000
DTEND;TZID=Europe/Zurich:20230323T200000
DTSTAMP:20230123T083309Z
URL:https://www.qkk6.ch/events/2023/03/23/chansonneries/
SUMMARY:Chansonneries: Marianne Racine und Daniel Fueter
DESCRIPTION:„Chansonneries“\nLa Racine &amp\; Monsieur Fueter laden zum
  Liederabend ein: selbstverständlich sind Brecht &amp\; Weill\, auch Burk
 hardt und Kasics dabei und aus der Klassik Küche grüssen Poulenc und Sch
 ubert – aber ‘mind the gap’: alles wird bis zu einer Oktave tiefer a
 ls üblich intoniert – dafür ist zum Schall &amp\; Rauch auch Trinken e
 mpfohlen!\n\nMarianne Racine&nbsp\;&nbsp\;&nbsp\;&nbsp\;&nbsp\; voc\nDanie
 l Fueter&nbsp\;&nbsp\;&nbsp\;&nbsp\;&nbsp\;&nbsp\;&nbsp\;&nbsp\;&nbsp\;&nb
 sp\;&nbsp\;&nbsp\;&nbsp\;&nbsp\; p\n\nFreier Eintritt\, Kollekte\, Platzza
 hl beschränkt\, Anmeldung bis 22.3.2023 an E-Mail
ATTACH;FMTTYPE=image/jpeg:https://www.qkk6.ch/wp-content/uploads/racine-e1
 670503758117.png
CATEGORIES:Konzert
LOCATION:Röslischüür\, Röslistrasse 9\, Zürich\, 8006\, Schweiz
GEO:47.388508;8.541154
X-APPLE-STRUCTURED-LOCATION;VALUE=URI;X-ADDRESS=Röslistrasse 9\, Zürich\,
  8006\, Schweiz;X-APPLE-RADIUS=100;X-TITLE=Röslischüür:geo:47.388508,8.
 541154
END:VEVENT
BEGIN:VTIMEZONE
TZID:Europe/Zurich
X-LIC-LOCATION:Europe/Zurich
BEGIN:STANDARD
DTSTART:20221030T020000
TZOFFSETFROM:+0200
TZOFFSETTO:+0100
TZNAME:CET
END:STANDARD
END:VTIMEZONE
END:VCALENDAR